BEGIN:VCALENDAR
VERSION:2.0
PRODID:-//Prospects - ECPv5.14.1//NONSGML v1.0//EN
CALSCALE:GREGORIAN
METHOD:PUBLISH
X-WR-CALNAME:Prospects
X-ORIGINAL-URL:https://prospectsfoundation.org.uk
X-WR-CALDESC:Events for Prospects
BEGIN:VTIMEZONE
TZID:Europe/London
BEGIN:DAYLIGHT
TZOFFSETFROM:+0000
TZOFFSETTO:+0100
TZNAME:BST
DTSTART:20240331T010000
END:DAYLIGHT
BEGIN:STANDARD
TZOFFSETFROM:+0100
TZOFFSETTO:+0000
TZNAME:GMT
DTSTART:20241027T010000
END:STANDARD
END:VTIMEZONE
BEGIN:VEVENT
DTSTART;TZID=Europe/London:20241105T100000
DTEND;TZID=Europe/London:20241105T150000
DTSTAMP:20260423T235549
CREATED:20241030T090608Z
LAST-MODIFIED:20241030T090608Z
UID:13038-1730800800-1730818800@prospectsfoundation.org.uk
SUMMARY:Jubilee - Hyndburn's Woodlands
DESCRIPTION:Join Hyndburn’s Woodlands Officer Brandon for weekly practical conservation sessions. This week\, we will be back at Jubilee woodland continuing with the maintenance of the wildflower meadow. Tasks include a small amount of scything\, followed by the raking off of any grass/cut material. After the meadow is cleared from vegetation we will be sowing Yellow rattle seeds. \nTools\, gloves and PPE will be provided. Please wear sturdy boots\, long sleeves and full length trousers as we may be working around brambles and nettles. Waterproofs may be needed\, depending on the weather. Please remember to bring spare water this activity can be quite demanding. \nWe will be meeting along Hollins Lane\, BB5 2QY (Just after The Hollins School). Staff will be in orange high-vis. There is on-street parking available. \nTo find out more or confirm your attendance\, please contact Brandon at brandon.cherry@prospectsfoundation.org.uk or 07733 840842
URL:https://prospectsfoundation.org.uk/event/jubilee-hyndburns-woodlands-3/
LOCATION:Woodnook Vale LNR – Hollins Ln\, 165 Hollins Lane\, Accrington\, BB5 2QY
CATEGORIES:Health and wellbeing,Volunteering,Woodlands
ATTACH;FMTTYPE=image/jpeg:https://prospectsfoundation.org.uk/wp-content/uploads/2024/10/IMG_20241029_111204-1.jpg
ORGANIZER;CN="Brandon%20Cherry":MAILTO:brandon.cherry@prospectsfoundation.org.uk
END:VEVENT
BEGIN:VEVENT
DTSTART;TZID=Europe/London:20241105T100000
DTEND;TZID=Europe/London:20241105T130000
DTSTAMP:20260423T235549
CREATED:20241101T100312Z
LAST-MODIFIED:20241101T100312Z
UID:13281-1730800800-1730811600@prospectsfoundation.org.uk
SUMMARY:Miller Fold Community Allotment session
DESCRIPTION:Join Sonja to learn new gardening skills\, socialise and relax in nature while supporting our productive community allotment! \nActivities will include weeding\, planting and bed maintenance. Please wear weather appropriate clothing and robust footwear. \nNo experience needed. Snacks and brews will be provided. Everyone welcome. \nContact Sonja sonja.bottomer@prospectsfoundation.org.uk or phone 01254 230348 to find out more and get involved. \n 
URL:https://prospectsfoundation.org.uk/event/miller-fold-community-allotment-session-4/
LOCATION:Miller Fold Allotment\, Miller Fold Ave\, Accrington\, BB5 0NT\, United Kingdom
CATEGORIES:Conservation,Food Growing,Gardening,Nature Crafts,Volunteering
ATTACH;FMTTYPE=image/jpeg:https://prospectsfoundation.org.uk/wp-content/uploads/2024/10/IMG-20240917-WA0005.jpg
ORGANIZER;CN="Sonja%20Bottomer":MAILTO:sonja.bottomer@prospectsfoundation.org.uk
END:VEVENT
END:VCALENDAR