BEGIN:VCALENDAR
VERSION:2.0
PRODID:-//Prospects - ECPv5.14.1//NONSGML v1.0//EN
CALSCALE:GREGORIAN
METHOD:PUBLISH
X-WR-CALNAME:Prospects
X-ORIGINAL-URL:https://prospectsfoundation.org.uk
X-WR-CALDESC:Events for Prospects
BEGIN:VTIMEZONE
TZID:Europe/London
BEGIN:DAYLIGHT
TZOFFSETFROM:+0000
TZOFFSETTO:+0100
TZNAME:BST
DTSTART:20240331T010000
END:DAYLIGHT
BEGIN:STANDARD
TZOFFSETFROM:+0100
TZOFFSETTO:+0000
TZNAME:GMT
DTSTART:20241027T010000
END:STANDARD
END:VTIMEZONE
BEGIN:VEVENT
DTSTART;TZID=Europe/London:20241021T100000
DTEND;TZID=Europe/London:20241021T130000
DTSTAMP:20260424T012217
CREATED:20240930T145549Z
LAST-MODIFIED:20240930T145549Z
UID:12791-1729504800-1729515600@prospectsfoundation.org.uk
SUMMARY:Conservation Volunteers session - Peel Park and the Coppice Local Nature Reserve
DESCRIPTION:Join us for the last month of the Peel Park Pollinators project! There will be weekly conservation volunteers sessions at Peel Park and the Coppice LNR\, every Monday from 10am – 1pm. Come along to learn new skills\, meet people\, keep fit and help wildlife! \nTo book a place or find out more email robert.gabryszak@prospectsfoundation.org.uk\, telephone 01254 230348 or call into the Prospects office at 54 Broadway\, Accrington \n 
URL:https://prospectsfoundation.org.uk/event/conservation-volunteers-session-peel-park-and-the-coppice-local-nature-reserve-147/
LOCATION:Peel Park and the Coppice Local Nature Reserve\, Main car park off Peel Park Avenue (next to the bowling green)\, Accrington\, Lancashire\, BB5 6HL\, United Kingdom
CATEGORIES:Conservation,Health and wellbeing,Peel Park and the Coppice LNR,Volunteering
ATTACH;FMTTYPE=image/png:https://prospectsfoundation.org.uk/wp-content/uploads/2024/09/September-2024-1.png
ORGANIZER;CN="Robert%20Gabryszak%20-%20LNR%20Project%20Officer":MAILTO:robert.gabryszak@prospectsfoundation.org.uk
END:VEVENT
BEGIN:VEVENT
DTSTART;TZID=Europe/London:20241021T103000
DTEND;TZID=Europe/London:20241021T120000
DTSTAMP:20260424T012217
CREATED:20240927T143540Z
LAST-MODIFIED:20240927T143540Z
UID:12680-1729506600-1729512000@prospectsfoundation.org.uk
SUMMARY:Family Singalong at Brookside
DESCRIPTION:Join talented choir mistress Beth Allen at Brookside for a good old sing song this half term. It’s well documented that singing has many health and wellbeing benefits\, so bring your enthusiasm and get stuck in. Absolutely no experience required\, these events are all about trying something new and having fun! \nSome things to note: \n\nUnder 18s must be supervised by an adult at all times\nPlease wear suitable\, waterproof outdoor clothes and sturdy boots\nPlease bring something to sit on (camping chair\, rug\, etc)\nThe route to the singing area will be on paths but these can be boggy and rutted. The route is unsuitable for mobility aids.\n\nTo find out more and confirm your attendance\, please contact Alice at alice.pooley@prospectsfoundation.org.uk\, telephone 01254 230348\, or call into the Prospects office at 54 Broadway\, Accrington\, BB5 1EW.
URL:https://prospectsfoundation.org.uk/event/family-singalong-at-brookside/
LOCATION:Brookside\, Stanhill Road\, Oswaldtwistle\, BB5 4PP
CATEGORIES:Conservation,Family,Health and wellbeing,Outdoor Learning,Volunteering,Woodlands
ATTACH;FMTTYPE=image/png:https://prospectsfoundation.org.uk/wp-content/uploads/2024/09/Event-Poster-3-x-4-in-1.png
ORGANIZER;CN="Alice%20Pooley":MAILTO:alice.pooley@prospectsfoundation.org.uk
END:VEVENT
END:VCALENDAR