BEGIN:VCALENDAR
VERSION:2.0
PRODID:-//Prospects - ECPv5.14.1//NONSGML v1.0//EN
CALSCALE:GREGORIAN
METHOD:PUBLISH
X-WR-CALNAME:Prospects
X-ORIGINAL-URL:https://prospectsfoundation.org.uk
X-WR-CALDESC:Events for Prospects
BEGIN:VTIMEZONE
TZID:Europe/London
BEGIN:DAYLIGHT
TZOFFSETFROM:+0000
TZOFFSETTO:+0100
TZNAME:BST
DTSTART:20240331T010000
END:DAYLIGHT
BEGIN:STANDARD
TZOFFSETFROM:+0100
TZOFFSETTO:+0000
TZNAME:GMT
DTSTART:20241027T010000
END:STANDARD
END:VTIMEZONE
BEGIN:VEVENT
DTSTART;TZID=Europe/London:20240927T183000
DTEND;TZID=Europe/London:20240927T203000
DTSTAMP:20260424T025805
CREATED:20240830T152637Z
LAST-MODIFIED:20240926T154025Z
UID:12556-1727461800-1727469000@prospectsfoundation.org.uk
SUMMARY:Woodnook Vale Bat Walk
DESCRIPTION:Join Roger ‘The Batman’ Cunliffe and Hyndburn’s Woodlands Officer\, Brandon Cherry for a evening of bat detecting through Woodnook Vale! Roger is an enthusiastic and well versed bat-er with a passion of sharing his knowledge with anyone who is interested! \nBat detectors will be provided by The PROSPECTS Foundation and Roger\, if you have your own please feel free to bring it along! Please remember to bring a torch and suitable walking boots. \nThe meeting location is along Hollins Lane\, BB5 2QG (Opposite the Alma Inn). Staff will be in orange hi-vis. The is parking available in the car park. \n\n\nBooking is required to attend this event. Please contact Brandon at brandon.cherry@prospectsfoundation.org.uk or 07733 840842 to reserve your space! Please do not bring dogs to the event.
URL:https://prospectsfoundation.org.uk/event/whinney-hill-bat-walk/
LOCATION:Woodnook Vale LNR – Hollins Ln\, 165 Hollins Lane\, Accrington\, BB5 2QY
CATEGORIES:Health and wellbeing,Volunteering,Woodlands
ATTACH;FMTTYPE=image/jpeg:https://prospectsfoundation.org.uk/wp-content/uploads/2024/08/20231027_175511-scaled.jpg
ORGANIZER;CN="Brandon%20Cherry":MAILTO:brandon.cherry@prospectsfoundation.org.uk
END:VEVENT
BEGIN:VEVENT
DTSTART;TZID=Europe/London:20240927T183000
DTEND;TZID=Europe/London:20240927T203000
DTSTAMP:20260424T025805
CREATED:20250227T100414Z
LAST-MODIFIED:20250227T100414Z
UID:13961-1727461800-1727469000@prospectsfoundation.org.uk
SUMMARY:Dawn Chorus Walk @Woodnook Vale LNR
DESCRIPTION:Join PROSPECTS for a early morning walk around Woodnook Vale LNR to hear the dawn chorus! \nThe walk will be led by local bird expert\, Dave Bickerton. \nThe meeting location is along Hollins Lane\, BB5 2QG (Opposite the Alma Inn). Staff will be in orange hi-vis. \n\n\nPlease contact Brandon at brandon.cherry@prospectsfoundation.org.uk or 07733 840842 to confirm your attendance. Please do not bring dogs to the event.
URL:https://prospectsfoundation.org.uk/event/dawn-chorus-walk-woodnook-vale-lnr/
LOCATION:Woodnook Vale LNR – Hollins Ln\, 165 Hollins Lane\, Accrington\, BB5 2QY
CATEGORIES:Health and wellbeing,Volunteering,Woodlands
ATTACH;FMTTYPE=image/png:https://prospectsfoundation.org.uk/wp-content/uploads/2025/02/Dawn-Chorus-Walk.png
ORGANIZER;CN="Brandon%20Cherry":MAILTO:brandon.cherry@prospectsfoundation.org.uk
END:VEVENT
END:VCALENDAR