BEGIN:VCALENDAR
VERSION:2.0
PRODID:-//Prospects - ECPv5.14.1//NONSGML v1.0//EN
CALSCALE:GREGORIAN
METHOD:PUBLISH
X-WR-CALNAME:Prospects
X-ORIGINAL-URL:https://prospectsfoundation.org.uk
X-WR-CALDESC:Events for Prospects
BEGIN:VTIMEZONE
TZID:Europe/London
BEGIN:DAYLIGHT
TZOFFSETFROM:+0000
TZOFFSETTO:+0100
TZNAME:BST
DTSTART:20240331T010000
END:DAYLIGHT
BEGIN:STANDARD
TZOFFSETFROM:+0100
TZOFFSETTO:+0000
TZNAME:GMT
DTSTART:20241027T010000
END:STANDARD
END:VTIMEZONE
BEGIN:VEVENT
DTSTART;TZID=Europe/London:20240730T100000
DTEND;TZID=Europe/London:20240730T143000
DTSTAMP:20260424T113908
CREATED:20240621T151628Z
LAST-MODIFIED:20240621T151716Z
UID:12316-1722333600-1722349800@prospectsfoundation.org.uk
SUMMARY:Big Butterfly Count at Peel Park and the Coppice LNR
DESCRIPTION:PROSPECTS will be taking part in the Big Butterfly Count in July & August! Novice or expert\, join us in the national event to help monitor the health of butterfly populations! The sessions will include a walk and 15 minute stop in a sunny location to count any visiting butterflies. \nThere will be two official sessions at Peel Park & the Coppice LNR\, meet in the Peel Park Car Park: \n\nTuesday 30th July – 10am – 12pm\nFriday 2nd August – 1pm – 3pm\n\nYou can choose which day is best for you (or attend both!) \nIf you’d like to take part in the Big Butterfly Count in your own garden or green space\, then check the Butterfly Conservation Website for more information. \nAll counts are subject to weather conditions\, for more info\, contact Robert: \n\nrobert.gabryszak@prospectsfoundation.org.uk\n01254 230348 (ext. 208)\n\nThe walk will follow the same route as transect route for bee and butterfly surveys! We will be making a stop in Pleck Meadow and on top of the Heathland.\nIf you are interested in attending surveys throughout the year\, would like more information\, or would like to notified if/when a survey is not going ahead\, get in touch with Robert: \n\nEmail: robert.gabryszak@prospectsfoundation.org.uk\nCall: 01254 230348 (Ext. 208)
URL:https://prospectsfoundation.org.uk/event/big-butterfly-count-at-peel-park-and-the-coppice-lnr/
LOCATION:Peel Park and the Coppice Local Nature Reserve\, Main car park off Peel Park Avenue (next to the bowling green)\, Accrington\, Lancashire\, BB5 6HL\, United Kingdom
CATEGORIES:Conservation,Family,Health and wellbeing,Outdoor Learning,Peel Park and the Coppice LNR,Volunteering,Walking,Woodlands
ATTACH;FMTTYPE=image/png:https://prospectsfoundation.org.uk/wp-content/uploads/2024/06/July-Square-Instagram-Post.png
ORGANIZER;CN="Chloe%20Jameson":MAILTO:chloe.jameson@prospectsfoundation.org.uk
END:VEVENT
BEGIN:VEVENT
DTSTART;TZID=Europe/London:20240730T100000
DTEND;TZID=Europe/London:20240730T150000
DTSTAMP:20260424T113908
CREATED:20240628T120109Z
LAST-MODIFIED:20240628T120109Z
UID:12331-1722333600-1722351600@prospectsfoundation.org.uk
SUMMARY:Woodnook Vale - Hyndburn's Woodlands
DESCRIPTION:Join Hyndburn’s Woodlands Officer Brandon for weekly practical conservation sessions\, this week we will be back at Woodnook Vale carrying out the second part of the Woodland Condition Assessment. \nTools\, gloves and PPE will be provided. Please wear sturdy boots\, long sleeves and full length trousers as we may be working around brambles and nettles. Waterproofs may be needed\, depending on the weather. Please remember to bring warm items of clothing e.g.\, hats\, gloves\, extra thick socks\, spare fleeces/jackets. \nWe will be meeting along Hollins Lane\, BB5 2QY . Staff will be in orange high-vis. There is on-street parking available. What 3 words location is gifts.plausible.milk \nTo find out more or confirm your attendance\, please contact Brandon at brandon.cherry@prospectsfoundation.org.uk or 07733 840842
URL:https://prospectsfoundation.org.uk/event/woodnook-vale-hyndburns-woodlands-8/
LOCATION:Woodnook Vale LNR – Hollins Ln\, 165 Hollins Lane\, Accrington\, BB5 2QY
CATEGORIES:Health and wellbeing,Volunteering,Woodlands
ATTACH;FMTTYPE=image/jpeg:https://prospectsfoundation.org.uk/wp-content/uploads/2024/06/IMG_20240426_104855.jpg
ORGANIZER;CN="Brandon%20Cherry":MAILTO:brandon.cherry@prospectsfoundation.org.uk
END:VEVENT
BEGIN:VEVENT
DTSTART;TZID=Europe/London:20240730T130000
DTEND;TZID=Europe/London:20240730T143000
DTSTAMP:20260424T113908
CREATED:20240621T150908Z
LAST-MODIFIED:20240621T150908Z
UID:12309-1722344400-1722349800@prospectsfoundation.org.uk
SUMMARY:Weekly Butterfly & Bee Survey at Peel Park and the Coppice LNR
DESCRIPTION:Join us every Tuesday @1pm (weather permitting) until September 2024. The transects start in Pleck Meadow and go around the whole site\, where participants will count and ID every butterfly or bee they see. This data will then be submitted to UKBMS and the Bumblebee Conservation Trust respectively. \nThe surveys are open to all members of the public\, whether you are a butterfly novice or an invertebrate expert. The walk around the site will help you stay fit and get in touch with nature! (Under 18s must be accompanied by an adult; well-behaved dogs are welcome.) \nMeeting point & Accessibility: Robert will be in the Peel Park Car Park next to the bowling green at the end of Peel Park Avenue\, BB5 6UQ at 1pm. Look for Robert in his orange hi-vis! By 1:15pm\, the group should arrive at the starting point for the transect\, where attendees on foot are welcome to meet. This map details the meeting points as well shows the route taken. Some areas of the walk are not accessible for everyone\, but there are alternate routes which individuals may take to avoid these. \nThe transect route for bee and butterfly surveys!\nDate & Time: Every Tuesday @1pm. The survey is subject to weather conditions. Assume that if is below 10°C\, there are wind gusts above 20mph\, and/or it is raining\, that the survey will not go ahead and will be done at another point in the week if feasible. \nIf you are interested in attending surveys throughout the year\, would like more information\, or would like to notified if/when a survey is not going ahead\, get in touch with Robert: \n\nEmail: robert.gabryszak@prospectsfoundation.org.uk\nCall: 01254 230348 (Ext. 208)
URL:https://prospectsfoundation.org.uk/event/weekly-butterfly-bee-survey-at-peel-park-and-the-coppice-lnr-20/
LOCATION:Peel Park and the Coppice Local Nature Reserve\, Main car park off Peel Park Avenue (next to the bowling green)\, Accrington\, Lancashire\, BB5 6HL\, United Kingdom
CATEGORIES:Conservation,Family,Health and wellbeing,Outdoor Learning,Peel Park and the Coppice LNR,Volunteering,Walking,Woodlands
ATTACH;FMTTYPE=image/png:https://prospectsfoundation.org.uk/wp-content/uploads/2024/02/3.png
ORGANIZER;CN="Chloe%20Jameson":MAILTO:chloe.jameson@prospectsfoundation.org.uk
END:VEVENT
END:VCALENDAR