BEGIN:VCALENDAR
VERSION:2.0
PRODID:-//Prospects - ECPv5.14.1//NONSGML v1.0//EN
CALSCALE:GREGORIAN
METHOD:PUBLISH
X-WR-CALNAME:Prospects
X-ORIGINAL-URL:https://prospectsfoundation.org.uk
X-WR-CALDESC:Events for Prospects
BEGIN:VTIMEZONE
TZID:Europe/London
BEGIN:DAYLIGHT
TZOFFSETFROM:+0000
TZOFFSETTO:+0100
TZNAME:BST
DTSTART:20240331T010000
END:DAYLIGHT
BEGIN:STANDARD
TZOFFSETFROM:+0100
TZOFFSETTO:+0000
TZNAME:GMT
DTSTART:20241027T010000
END:STANDARD
END:VTIMEZONE
BEGIN:VEVENT
DTSTART;TZID=Europe/London:20240717T100000
DTEND;TZID=Europe/London:20240717T140000
DTSTAMP:20260424T100451
CREATED:20240628T125035Z
LAST-MODIFIED:20240628T125035Z
UID:12339-1721210400-1721224800@prospectsfoundation.org.uk
SUMMARY:Memorial Park - Woodland Condition Assessment
DESCRIPTION:Join Hyndburn’s Woodlands Officer Brandon for weekly practical conservation sessions\, every Wednesday at Memorial Park in Great Harwood. \nThis week\, we will be carrying out an official Woodland Condition Assessment for Round Wood\, this will add to a body of ongoing assessments (primarily by Lancashire Wildlife Trust) and will help inform future management decisions. \n\n\nTools\, gloves and PPE will be provided. Please wear sturdy boots\, long sleeves and full length trousers as we may be working around brambles and nettles. Waterproofs may be needed\, depending on the weather. \nWe will be meeting on Church Lane\, Great Harwood\, BB6 7PU. Staff will be in orange high-vis. \nTo find out more or confirm your attendance\, please contact Brandon at brandon.cherry@prospectsfoundation.org.uk or 07733 840842
URL:https://prospectsfoundation.org.uk/event/memorial-park-woodland-condition-assessment/
LOCATION:Memorial Park\, Church Lane\, Great Harwood\, Lancashire\, BB6 7PR\, United Kingdom
CATEGORIES:Health and wellbeing,Memorial Park,Outdoor Learning,Volunteering,Woodlands
ATTACH;FMTTYPE=image/jpeg:https://prospectsfoundation.org.uk/wp-content/uploads/2024/06/IMG_20240426_104855-1.jpg
ORGANIZER;CN="Brandon%20Cherry":MAILTO:brandon.cherry@prospectsfoundation.org.uk
END:VEVENT
BEGIN:VEVENT
DTSTART;TZID=Europe/London:20240717T150000
DTEND;TZID=Europe/London:20240717T170000
DTSTAMP:20260424T100451
CREATED:20240701T152812Z
LAST-MODIFIED:20240701T152812Z
UID:12368-1721228400-1721235600@prospectsfoundation.org.uk
SUMMARY:Woodnook Community Garden session
DESCRIPTION:Join Sonja to learn new gardening skills\, and nature crafts socialise and relax in nature while supporting our productive community allotment. \nActivities include weeding beds\, letter picking around the garden and maintaining garden paths. \nPlease wear weather appropriate clothing and robust footwear. Refreshments will be provided. Everyone welcome. \nContact Sonja sonja.bottomer@prospectsfoundation.org.uk or phone 01254 230348 to get involved or to find out more. \n  \n 
URL:https://prospectsfoundation.org.uk/event/woodnook-community-garden-session-7/
LOCATION:Woodnook Community Garden\, Belfield Road\, Accrington
CATEGORIES:Food Growing,Gardening,Health and wellbeing,Outdoor Learning,Traditional Crafts
ATTACH;FMTTYPE=image/jpeg:https://prospectsfoundation.org.uk/wp-content/uploads/2024/03/IMG_20240306_103522-scaled.jpg
ORGANIZER;CN="Sonja%20Bottomer":MAILTO:sonja.bottomer@prospectsfoundation.org.uk
END:VEVENT
END:VCALENDAR