BEGIN:VCALENDAR
VERSION:2.0
PRODID:-//Prospects - ECPv5.14.1//NONSGML v1.0//EN
CALSCALE:GREGORIAN
METHOD:PUBLISH
X-WR-CALNAME:Prospects
X-ORIGINAL-URL:https://prospectsfoundation.org.uk
X-WR-CALDESC:Events for Prospects
BEGIN:VTIMEZONE
TZID:Europe/London
BEGIN:DAYLIGHT
TZOFFSETFROM:+0000
TZOFFSETTO:+0100
TZNAME:BST
DTSTART:20240331T010000
END:DAYLIGHT
BEGIN:STANDARD
TZOFFSETFROM:+0100
TZOFFSETTO:+0000
TZNAME:GMT
DTSTART:20241027T010000
END:STANDARD
END:VTIMEZONE
BEGIN:VEVENT
DTSTART;TZID=Europe/London:20240710T100000
DTEND;TZID=Europe/London:20240710T140000
DTSTAMP:20260424T101643
CREATED:20240628T124855Z
LAST-MODIFIED:20240628T124855Z
UID:12336-1720605600-1720620000@prospectsfoundation.org.uk
SUMMARY:Memorial Park - Rhododendron Clearing
DESCRIPTION:Join Hyndburn’s Woodlands Officer Brandon for weekly practical conservation sessions\, every Wednesday at Memorial Park in Great Harwood. \nThis week\, we will be going through Round Wood to see which Rhododendron/Laurel root balls can be removed by hand\, as well as cutting back some of the spring growth to help prevent re-growth. \n\n\nTools\, gloves and PPE will be provided. Please wear sturdy boots\, long sleeves and full length trousers as we may be working around brambles and nettles. Waterproofs may be needed\, depending on the weather. \nWe will be meeting on Church Lane\, Great Harwood\, BB6 7PU. Staff will be in orange high-vis. \nTo find out more or confirm your attendance\, please contact Brandon at brandon.cherry@prospectsfoundation.org.uk or 07733 840842
URL:https://prospectsfoundation.org.uk/event/memorial-park-rhododendron-clearing/
LOCATION:Memorial Park\, Church Lane\, Great Harwood\, Lancashire\, BB6 7PR\, United Kingdom
CATEGORIES:Health and wellbeing,Memorial Park,Outdoor Learning,Volunteering,Woodlands
ATTACH;FMTTYPE=image/jpeg:https://prospectsfoundation.org.uk/wp-content/uploads/2024/06/IMG_20240410_105944.jpg
ORGANIZER;CN="Brandon%20Cherry":MAILTO:brandon.cherry@prospectsfoundation.org.uk
END:VEVENT
BEGIN:VEVENT
DTSTART;TZID=Europe/London:20240710T150000
DTEND;TZID=Europe/London:20240710T170000
DTSTAMP:20260424T101643
CREATED:20240701T143923Z
LAST-MODIFIED:20240702T095529Z
UID:12361-1720623600-1720630800@prospectsfoundation.org.uk
SUMMARY:Miller Fold Allotment session
DESCRIPTION:Join Sonja to learn new gardening skills\, socialise and relax in nature while supporting our productive community allotment! \nActivities will include weeding\, planting\, and bed maintenance. \nPlease wear weather appropriate clothing and robust footwear. Refreshments will be provided. Everyone welcome. \nContact Sonja sonja.bottomer@prospectsfoundation.org.uk or phone 01254 230348 to find out more and get involved. \n  \n 
URL:https://prospectsfoundation.org.uk/event/miller-fold-allotment-session-20/
LOCATION:Miller Fold Allotment\, Miller Fold Ave\, Accrington\, BB5 0NT\, United Kingdom
CATEGORIES:Conservation,Food Growing,Gardening,Volunteering
ATTACH;FMTTYPE=image/jpeg:https://prospectsfoundation.org.uk/wp-content/uploads/2024/05/IMG_20240416_102424-scaled.jpg
ORGANIZER;CN="Sonja%20Bottomer":MAILTO:sonja.bottomer@prospectsfoundation.org.uk
END:VEVENT
END:VCALENDAR