BEGIN:VCALENDAR
VERSION:2.0
PRODID:-//Prospects - ECPv5.14.1//NONSGML v1.0//EN
CALSCALE:GREGORIAN
METHOD:PUBLISH
X-WR-CALNAME:Prospects
X-ORIGINAL-URL:https://prospectsfoundation.org.uk
X-WR-CALDESC:Events for Prospects
BEGIN:VTIMEZONE
TZID:Europe/London
BEGIN:DAYLIGHT
TZOFFSETFROM:+0000
TZOFFSETTO:+0100
TZNAME:BST
DTSTART:20240331T010000
END:DAYLIGHT
BEGIN:STANDARD
TZOFFSETFROM:+0100
TZOFFSETTO:+0000
TZNAME:GMT
DTSTART:20241027T010000
END:STANDARD
END:VTIMEZONE
BEGIN:VEVENT
DTSTART;TZID=Europe/London:20240620T100000
DTEND;TZID=Europe/London:20240620T130000
DTSTAMP:20260423T135951
CREATED:20240531T105034Z
LAST-MODIFIED:20240531T105034Z
UID:12165-1718877600-1718888400@prospectsfoundation.org.uk
SUMMARY:Conservation Volunteers session - Peel Park and the Coppice Local Nature Reserve
DESCRIPTION:Join us for a weekly conservation volunteers session at Peel Park and the Coppice Local Nature Reserve\, every Monday & Thursday* from 10am – 1pm. We’ll be carrying out conservation work to benefit pollinators throughout the year as a part of our Pollinator Networks project!  Come along and learn new skills\, meet people\, keep fit\, and help wildlife! \nTo book a place or find out more email robert.gabryszak@prospectsfoundation.org.uk\, telephone 01254 230348 or call into the Prospects office at 54 Broadway\, Accrington \n*Except Monday 3rd\, and Monday 24th. Thursday 6th\, and Thursday 27th. \n 
URL:https://prospectsfoundation.org.uk/event/conservation-volunteers-session-peel-park-and-the-coppice-local-nature-reserve-124/
LOCATION:Peel Park and the Coppice Local Nature Reserve\, Main car park off Peel Park Avenue (next to the bowling green)\, Accrington\, Lancashire\, BB5 6HL\, United Kingdom
CATEGORIES:Conservation,Health and wellbeing,Peel Park and the Coppice LNR,Volunteering
ATTACH;FMTTYPE=image/png:https://prospectsfoundation.org.uk/wp-content/uploads/2024/05/May-Posters-Instagram-Post-2.png
ORGANIZER;CN="Robert%20Gabryszak%20-%20LNR%20Project%20Officer":MAILTO:robert.gabryszak@prospectsfoundation.org.uk
END:VEVENT
BEGIN:VEVENT
DTSTART;TZID=Europe/London:20240620T103000
DTEND;TZID=Europe/London:20240620T150000
DTSTAMP:20260423T135951
CREATED:20240612T170408Z
LAST-MODIFIED:20240612T170446Z
UID:12252-1718879400-1718895600@prospectsfoundation.org.uk
SUMMARY:Brookside Summer Maintenance Day
DESCRIPTION:Join our Brookside Restoration Coordinator Alice for a day of practical maintenance work on the brand new Brookside Site! \nSummer is here and Brookside is flush with new leaves\, flowers\, and wildlife. Unfortunately\, the arrival of warmer weather means that the invasive non-native Himalayan Balsam is rapidly growing and spreading\, and will soon be forming seed pods ready to take over more of the site. \nWith your help\, we can “bash” the Balsam into submission\, and allow native species to thrive. \nWe will also be removing tree guards that have been left on site since the ELWOOD planting scheme of the early 2000s\, which will keep our precious trees healthy as they mature. \nMeeting point is the Kemp Delph entrance to Brookside\, on Stanhill Road. Staff will be in orange hi-vis. \nWhat3words: crowned.sits.paths  \nNo experience is necessary – just bring your enthusiasm! Come for part of the day if that works better for you. \n\nAll ages welcome but under 18s must be accompanied by a parent or guardian.\nPlease wear suitable outdoor clothes (long trousers and wellies/ walking boots)\nPlease bring lunch. Teas\, coffees\, and biscuits will be provided by PROSPECTS\n\nThere are no toilets on site\, but there is a pub close-by which has full facilities. \nTo find out more or confirm your attendance\, please contact Alice at alice.pooley@prospectsfoundation.org.uk\, telephone 01254 230348\, or call into the Prospects office at 54 Broadway\, Accrington\, BB5 1EW.
URL:https://prospectsfoundation.org.uk/event/brookside-summer-maintenance-day/
LOCATION:Brookside\, Stanhill Road\, Oswaldtwistle\, BB5 4PP
CATEGORIES:Conservation,Health and wellbeing,Volunteering,Woodlands
ATTACH;FMTTYPE=image/jpeg:https://prospectsfoundation.org.uk/wp-content/uploads/2024/05/1000034018.jpg
ORGANIZER;CN="Alice%20Pooley":MAILTO:alice.pooley@prospectsfoundation.org.uk
END:VEVENT
END:VCALENDAR