BEGIN:VCALENDAR
VERSION:2.0
PRODID:-//Prospects - ECPv5.14.1//NONSGML v1.0//EN
CALSCALE:GREGORIAN
METHOD:PUBLISH
X-WR-CALNAME:Prospects
X-ORIGINAL-URL:https://prospectsfoundation.org.uk
X-WR-CALDESC:Events for Prospects
BEGIN:VTIMEZONE
TZID:Europe/London
BEGIN:DAYLIGHT
TZOFFSETFROM:+0000
TZOFFSETTO:+0100
TZNAME:BST
DTSTART:20240331T010000
END:DAYLIGHT
BEGIN:STANDARD
TZOFFSETFROM:+0100
TZOFFSETTO:+0000
TZNAME:GMT
DTSTART:20241027T010000
END:STANDARD
END:VTIMEZONE
BEGIN:VEVENT
DTSTART;TZID=Europe/London:20240614T100000
DTEND;TZID=Europe/London:20240614T130000
DTSTAMP:20260423T050646
CREATED:20240603T113243Z
LAST-MODIFIED:20240603T113243Z
UID:12214-1718359200-1718370000@prospectsfoundation.org.uk
SUMMARY:Woodnook Community Garden session
DESCRIPTION:Join Sonja to learn new gardening skills\, and nature crafts socialise and relax in nature while supporting our productive community allotment. \nActivities include weeding beds\, planting out seedlings and maintaining the garden. \nPlease wear weather appropriate clothing and robust footwear. Refreshments will be provided. Everyone welcome. \nContact Sonja sonja.bottomer@prospectsfoundation.org.uk or phone 01254 230348 to get involved or to find out more. \n  \n 
URL:https://prospectsfoundation.org.uk/event/woodnook-community-garden-session-5/
LOCATION:Woodnook Community Garden\, Belfield Road\, Accrington
CATEGORIES:Food Growing,Gardening,Health and wellbeing,Outdoor Learning,Traditional Crafts
ATTACH;FMTTYPE=image/jpeg:https://prospectsfoundation.org.uk/wp-content/uploads/2024/06/IMG_20240517_101303-scaled.jpg
ORGANIZER;CN="Sonja%20Bottomer":MAILTO:sonja.bottomer@prospectsfoundation.org.uk
END:VEVENT
BEGIN:VEVENT
DTSTART;TZID=Europe/London:20240614T101500
DTEND;TZID=Europe/London:20240614T120000
DTSTAMP:20260423T050646
CREATED:20240612T170154Z
LAST-MODIFIED:20240613T083937Z
UID:12250-1718360100-1718366400@prospectsfoundation.org.uk
SUMMARY:Guided Family Walk at Brookside\, Oswaldtwistle
DESCRIPTION:Join our Brookside Restoration Coordinator Alice for a guided walk around the brand new Brookside Site! We will be taking a scenic stroll around the forests\, meadows\, and lodges around the site\, enjoying the beautiful views and admiring the many species of trees and plants. \nThe route will take around 1.5 hours and will keep mostly on paths\, but some areas may be boggy or overgrown. Unfortunately\, the route is not suitable for pushchairs or those who use mobility aids. \nThe meeting point is the Kemp Delph entrance to Brookside\, on Stanhill Road. Staff will be in orange hi-vis. \nLimited parking is available but please consider taking public transport – the number 6 / 6A bus stops right by the gate! \nWhat3words: crowned.sits.paths  \n\nAll ages welcome but under 18s must be accompanied by a parent or guardian\nBug spray and sun cream are recommended\nPlease wear suitable outdoor clothes (long trousers advised) and walking shoes/wellies to walk in.\n\nThere are no toilets on site\, but there is a pub close-by which has full facilities. \nTo find out more or confirm your attendance\, please contact Alice at alice.pooley@prospectsfoundation.org.uk\, telephone 01254 230348\, or call into the Prospects office at 54 Broadway\, Accrington\, BB5 1EW. \n 
URL:https://prospectsfoundation.org.uk/event/guided-family-walk-at-brookside-oswaldtwistle-2/
LOCATION:Brookside\, Stanhill Road\, Oswaldtwistle\, BB5 4PP
CATEGORIES:Conservation,Health and wellbeing,Volunteering,Woodlands
ATTACH;FMTTYPE=image/jpeg:https://prospectsfoundation.org.uk/wp-content/uploads/2024/04/20230830_140302-scaled.jpg
ORGANIZER;CN="Alice%20Pooley":MAILTO:alice.pooley@prospectsfoundation.org.uk
END:VEVENT
END:VCALENDAR