BEGIN:VCALENDAR
VERSION:2.0
PRODID:-//Prospects - ECPv5.14.1//NONSGML v1.0//EN
CALSCALE:GREGORIAN
METHOD:PUBLISH
X-WR-CALNAME:Prospects
X-ORIGINAL-URL:https://prospectsfoundation.org.uk
X-WR-CALDESC:Events for Prospects
BEGIN:VTIMEZONE
TZID:Europe/London
BEGIN:DAYLIGHT
TZOFFSETFROM:+0000
TZOFFSETTO:+0100
TZNAME:BST
DTSTART:20240331T010000
END:DAYLIGHT
BEGIN:STANDARD
TZOFFSETFROM:+0100
TZOFFSETTO:+0000
TZNAME:GMT
DTSTART:20241027T010000
END:STANDARD
END:VTIMEZONE
BEGIN:VEVENT
DTSTART;TZID=Europe/London:20240419T100000
DTEND;TZID=Europe/London:20240419T140000
DTSTAMP:20260424T204752
CREATED:20240327T134702Z
LAST-MODIFIED:20240327T134702Z
UID:11809-1713520800-1713535200@prospectsfoundation.org.uk
SUMMARY:Eco Refill shop - 54 Broadway
DESCRIPTION:PROSPECTS is now selling a selection of refills! \nBring a container\, grab a refill and start/restart  your refill journey. We have just restocked so now have laundry liquid\, fabric conditioner and washing up liquid\, two types of body wash and two types of hand soap! \nPop to the PROSPECTS office at 54 Broadway\, Accrington and ring the bell. We’re usually upstairs so don’t be put off if there’s no one around. Open between 10am and 2pm every Thursday. \nFor more info contact Sonja\, sonja.bottomer@prospectsfoundaton.org.uk or call (01254) 230348.
URL:https://prospectsfoundation.org.uk/event/eco-refill-shop-54-broadway-15/
LOCATION:Prospects Environment Centre\, 54 Broadway\, Accrington\, BB51EW\, United Kingdom
CATEGORIES:Health and wellbeing,Recycling
ATTACH;FMTTYPE=image/png:https://prospectsfoundation.org.uk/wp-content/uploads/2023/11/Copy-of-PROSPECTS-SHOP-RE-FILLS-2.png
ORGANIZER;CN="Sonja%20Bottomer":MAILTO:sonja.bottomer@prospectsfoundation.org.uk
END:VEVENT
BEGIN:VEVENT
DTSTART;TZID=Europe/London:20240419T193000
DTEND;TZID=Europe/London:20240419T213000
DTSTAMP:20260424T204752
CREATED:20240406T103456Z
LAST-MODIFIED:20240406T103456Z
UID:11896-1713555000-1713562200@prospectsfoundation.org.uk
SUMMARY:Memorial Park Bat Walk
DESCRIPTION:Join Roger ‘The Batman’ Cunliffe for an evening of bat detecting! Roger will be taking us for a gentle stroll around the woodland of Memorial Park (Round Wood)\, Great Harwood where we will learn all about our native bat species and hopefully hear (and see!) a few of them. \nThis is a family-friendly event. Please do not bring any dogs. \nDate: Friday 19th April\nTime: 7.30pm – 9.30pm\nMeeting point: Main park entrance on Church Lane\, Great Harwood\, BB6 7PU. \nContact Sonja:\nsonja.bottomer@prospectsfoundation.org.uk\nto find out more or book your place
URL:https://prospectsfoundation.org.uk/event/memorial-park-bat-walk/
LOCATION:Memorial Park\, Church Lane\, Great Harwood\, Lancashire\, BB6 7PR\, United Kingdom
CATEGORIES:Health and wellbeing,Memorial Park,Outdoor Learning,Walking
ATTACH;FMTTYPE=image/jpeg:https://prospectsfoundation.org.uk/wp-content/uploads/2024/04/Bat-walk-at-Jackhouse-scaled.jpg
ORGANIZER;CN="Sonja%20Bottomer":MAILTO:sonja.bottomer@prospectsfoundation.org.uk
END:VEVENT
END:VCALENDAR