BEGIN:VCALENDAR
VERSION:2.0
PRODID:-//Prospects - ECPv5.14.1//NONSGML v1.0//EN
CALSCALE:GREGORIAN
METHOD:PUBLISH
X-WR-CALNAME:Prospects
X-ORIGINAL-URL:https://prospectsfoundation.org.uk
X-WR-CALDESC:Events for Prospects
BEGIN:VTIMEZONE
TZID:Europe/London
BEGIN:DAYLIGHT
TZOFFSETFROM:+0000
TZOFFSETTO:+0100
TZNAME:BST
DTSTART:20240331T010000
END:DAYLIGHT
BEGIN:STANDARD
TZOFFSETFROM:+0100
TZOFFSETTO:+0000
TZNAME:GMT
DTSTART:20241027T010000
END:STANDARD
END:VTIMEZONE
BEGIN:VEVENT
DTSTART;TZID=Europe/London:20240410T100000
DTEND;TZID=Europe/London:20240410T130000
DTSTAMP:20260424T220214
CREATED:20240328T174104Z
LAST-MODIFIED:20240409T145804Z
UID:11887-1712743200-1712754000@prospectsfoundation.org.uk
SUMMARY:Soil testing workshop at Oak Hill Park
DESCRIPTION:Join us for a soil testing workshop and learn how to test soil for pH\, potassium\, nitrogen and phosphorus levels.  We’ll be testing the soil from the old bowling green at Bullough Park\, Accrington. \nWe’ll dig up small samples from across the green and then test the samples using a soil testing kit.  The results will help us to decide which varieties of fruit trees we will plant next year. \nDUE TO THE WEATHER WE ARE NOW MEETING AT OAK HILL PARK – the session will take place in the tool store opposite the play area. \nChildren are welcome if accompanied by an adult.  To book a place email helen.earnshaw@prospectsfoundation.org.uk\, telephone 01254 230348 or call into the Prospects office at 54 Broadway\, Accrington.
URL:https://prospectsfoundation.org.uk/event/soil-testing-workshop-at-oak-hill/
LOCATION:Oakhill Park\, Accrington BB5 2NY\, 113 Manchester Rd\, Accrington\, Lancashire\, BB5 2NY\, United Kingdom
CATEGORIES:Conservation,Family
ATTACH;FMTTYPE=image/jpeg:https://prospectsfoundation.org.uk/wp-content/uploads/2022/03/soil-766281_960_720.jpg
ORGANIZER;CN="Helen%20Earnshaw%20-%20Community%20TreeACTION%20Officer":MAILTO:helen.earnshaw@prospectsfoundation.org.uk
END:VEVENT
BEGIN:VEVENT
DTSTART;TZID=Europe/London:20240410T100000
DTEND;TZID=Europe/London:20240410T140000
DTSTAMP:20260424T220214
CREATED:20240408T113205Z
LAST-MODIFIED:20240408T113205Z
UID:11901-1712743200-1712757600@prospectsfoundation.org.uk
SUMMARY:Memorial Park - Root Ball Removal
DESCRIPTION:Join Hyndburn’s Woodlands Officer Brandon for weekly practical conservation sessions\, every Wednesday at Memorial Park in Great Harwood. \nThis week\, we will be using hand tools to continue with the removal of the remaining root balls from the previous felling work to prevent any regrowth. \n\n\nTools\, gloves and PPE will be provided. Please wear sturdy boots\, long sleeves and full length trousers as we may be working around brambles and nettles. Waterproofs may be needed\, depending on the weather. \nWe will be meeting on Church Lane\, Great Harwood\, BB6 7PU. Staff will be in orange high-vis. \nTo find out more or confirm your attendance\, please contact Brandon at brandon.cherry@prospectsfoundation.org.uk or 07733 840842
URL:https://prospectsfoundation.org.uk/event/memorial-park-root-ball-removal-2/
LOCATION:Memorial Park\, Church Lane\, Great Harwood\, Lancashire\, BB6 7PR\, United Kingdom
CATEGORIES:Health and wellbeing,Memorial Park,Outdoor Learning,Volunteering,Woodlands
ATTACH;FMTTYPE=image/jpeg:https://prospectsfoundation.org.uk/wp-content/uploads/2024/02/MemorialParkPic.jpg
ORGANIZER;CN="Brandon%20Cherry":MAILTO:brandon.cherry@prospectsfoundation.org.uk
END:VEVENT
END:VCALENDAR