BEGIN:VCALENDAR
VERSION:2.0
PRODID:-//Prospects - ECPv5.14.1//NONSGML v1.0//EN
CALSCALE:GREGORIAN
METHOD:PUBLISH
X-WR-CALNAME:Prospects
X-ORIGINAL-URL:https://prospectsfoundation.org.uk
X-WR-CALDESC:Events for Prospects
BEGIN:VTIMEZONE
TZID:Europe/London
BEGIN:DAYLIGHT
TZOFFSETFROM:+0000
TZOFFSETTO:+0100
TZNAME:BST
DTSTART:20240331T010000
END:DAYLIGHT
BEGIN:STANDARD
TZOFFSETFROM:+0100
TZOFFSETTO:+0000
TZNAME:GMT
DTSTART:20241027T010000
END:STANDARD
END:VTIMEZONE
BEGIN:VEVENT
DTSTART;TZID=Europe/London:20240328T100000
DTEND;TZID=Europe/London:20240328T140000
DTSTAMP:20260425T005629
CREATED:20240229T115846Z
LAST-MODIFIED:20240229T115846Z
UID:11501-1711620000-1711634400@prospectsfoundation.org.uk
SUMMARY:Eco Refill shop - 54 Broadway
DESCRIPTION:PROSPECTS is now selling a selection of refills! \nBring a container\, grab a refill and start/restart  your refill journey. We have just restocked so now have laundry liquid\, fabric conditioner and washing up liquid\, two types of body wash and two types of hand soap! \nPop to the PROSPECTS office at 54 Broadway\, Accrington and ring the bell. We’re usually upstairs so don’t be put off if there’s no one around. Open between 10am and 2pm every Thursday. \nFor more info contact Sonja\, sonja.bottomer@prospectsfoundaton.org.uk or call (01254) 230348.
URL:https://prospectsfoundation.org.uk/event/eco-refill-shop-54-broadway-14/
LOCATION:Prospects Environment Centre\, 54 Broadway\, Accrington\, BB51EW\, United Kingdom
CATEGORIES:Health and wellbeing,Recycling
ATTACH;FMTTYPE=image/png:https://prospectsfoundation.org.uk/wp-content/uploads/2023/11/Copy-of-PROSPECTS-SHOP-RE-FILLS-2.png
ORGANIZER;CN="Sonja%20Bottomer":MAILTO:sonja.bottomer@prospectsfoundation.org.uk
END:VEVENT
BEGIN:VEVENT
DTSTART;TZID=Europe/London:20240328T100000
DTEND;TZID=Europe/London:20240328T150000
DTSTAMP:20260425T005629
CREATED:20240326T163110Z
LAST-MODIFIED:20240326T163353Z
UID:11765-1711620000-1711638000@prospectsfoundation.org.uk
SUMMARY:Rushton House Farm - Hyndburn's Woodlands
DESCRIPTION:Join Hyndburn’s Woodlands Officer Brandon for weekly practical conservation sessions\, this week we will be at Rushton House Farm continuing with the hedgerow planting started a few weeks ago. \nTools\, gloves and PPE will be provided. Please wear sturdy boots\, long sleeves and full length trousers as we may be working around brambles and nettles. Waterproofs may be needed\, depending on the weather. Please remember to bring warm items of clothing e.g.\, hats\, gloves\, extra thick socks\, spare fleeces/jackets. \nWe will be meeting at the end Broadfield\, Oswaldtwistle\, BB5 3SF (Just before the Chick Inn Farm Shop). Staff will be in orange high-vis. There is on-street parking available. \nTo find out more or confirm your attendance\, please contact Brandon at brandon.cherry@prospectsfoundation.org.uk or 07733 840842
URL:https://prospectsfoundation.org.uk/event/rushton-house-farm-hyndburns-woodlands-7/
LOCATION:Rushton House Farm\, Broadfield/Rough Hay Lane\, Oswaldtwistle\, BB5 3SF\, United Kingdom
CATEGORIES:Health and wellbeing,Volunteering,Woodlands
ATTACH;FMTTYPE=image/jpeg:https://prospectsfoundation.org.uk/wp-content/uploads/2023/10/woodland-volunteers.jpg
ORGANIZER;CN="Brandon%20Cherry":MAILTO:brandon.cherry@prospectsfoundation.org.uk
END:VEVENT
END:VCALENDAR