BEGIN:VCALENDAR
VERSION:2.0
PRODID:-//Prospects - ECPv5.14.1//NONSGML v1.0//EN
CALSCALE:GREGORIAN
METHOD:PUBLISH
X-WR-CALNAME:Prospects
X-ORIGINAL-URL:https://prospectsfoundation.org.uk
X-WR-CALDESC:Events for Prospects
BEGIN:VTIMEZONE
TZID:Europe/London
BEGIN:DAYLIGHT
TZOFFSETFROM:+0000
TZOFFSETTO:+0100
TZNAME:BST
DTSTART:20240331T010000
END:DAYLIGHT
BEGIN:STANDARD
TZOFFSETFROM:+0100
TZOFFSETTO:+0000
TZNAME:GMT
DTSTART:20241027T010000
END:STANDARD
END:VTIMEZONE
BEGIN:VEVENT
DTSTART;TZID=Europe/London:20240326T100000
DTEND;TZID=Europe/London:20240326T130000
DTSTAMP:20260424T221502
CREATED:20240229T120215Z
LAST-MODIFIED:20240229T120659Z
UID:11505-1711447200-1711458000@prospectsfoundation.org.uk
SUMMARY:Miller Fold Allotment session
DESCRIPTION:Join us for some sustainable food growing on our community garden. Every Tuesday 10am to 1pm. \nActivities will include seed sowing and bug hotel maintenance. \nPlease wear warm\, weather appropriate clothing and robust footwear. Refreshments will be provided. Everyone welcome. \nContact Sonja sonja.bottomer@prospectsfoundation.org.uk or phone 01254 230348 to get involved or to find out more. \n  \n 
URL:https://prospectsfoundation.org.uk/event/miller-fold-allotment-session-11/
LOCATION:Miller Fold Allotment\, Miller Fold Ave\, Accrington\, BB5 0NT\, United Kingdom
CATEGORIES:Conservation,Food Growing,Gardening,Volunteering
ATTACH;FMTTYPE=image/jpeg:https://prospectsfoundation.org.uk/wp-content/uploads/2024/02/Feb-allotment-scaled.jpg
ORGANIZER;CN="Sonja%20Bottomer":MAILTO:sonja.bottomer@prospectsfoundation.org.uk
END:VEVENT
BEGIN:VEVENT
DTSTART;TZID=Europe/London:20240326T100000
DTEND;TZID=Europe/London:20240326T150000
DTSTAMP:20260424T221502
CREATED:20240229T181338Z
LAST-MODIFIED:20240229T181338Z
UID:11560-1711447200-1711465200@prospectsfoundation.org.uk
SUMMARY:Whinney Hill - Hyndburn's Woodlands
DESCRIPTION:Join Hyndburn’s Woodlands Officer Brandon for weekly practical conservation sessions\, this week we will be at Whinney Hill woodland. \nTools\, gloves and PPE will be provided. Please wear sturdy boots\, long sleeves and full length trousers as we may be working around brambles and nettles. Waterproofs may be needed\, depending on the weather. Please remember to bring warm items of clothing e.g.\, hats\, gloves\, extra thick socks\, spare fleeces/jackets. \nWe will be meeting at the end of Thorneyholme Road\, BB5 5FW (just outside the play area). Staff will be in orange high-vis. There is on-street parking available. \nTo find out more or confirm your attendance\, please contact Brandon at brandon.cherry@prospectsfoundation.org.uk or 07733 840842
URL:https://prospectsfoundation.org.uk/event/whinney-hill-hyndburns-woodlands-23/
LOCATION:Whinney Hill Woodland – Thorneyholme Road\, Thorneyholme Road\, Accrington\, BB5 5BB\, United Kingdom
CATEGORIES:Health and wellbeing,Volunteering,Woodlands
ATTACH;FMTTYPE=image/jpeg:https://prospectsfoundation.org.uk/wp-content/uploads/2023/10/woodland-volunteers.jpg
ORGANIZER;CN="Brandon%20Cherry":MAILTO:brandon.cherry@prospectsfoundation.org.uk
END:VEVENT
BEGIN:VEVENT
DTSTART;TZID=Europe/London:20240326T100000
DTEND;TZID=Europe/London:20240326T130000
DTSTAMP:20260424T221502
CREATED:20240325T140055Z
LAST-MODIFIED:20240325T140055Z
UID:11761-1711447200-1711458000@prospectsfoundation.org.uk
SUMMARY:Tree Planting at Woodnook Vale LNR
DESCRIPTION:Join our Community TreeACTION Officer Helen for a practical session planting hedgerow trees at Woodnook Vale LNR in Accrington. \nWe will be meeting at the Royds Street entrance to Woodnook Vale LNR (next to a carved bench)\, Accrington\, BB5 2LW. Staff will be in orange hi-vis. \n\nNo experience is necessary – just bring your enthusiasm!\nAll ages welcome. Children will need to be accompanied by an adult\nPlease wear suitable outdoor clothes and sturdy boots (wellies are advised)\n\nTo find out more or confirm your attendance\, please contact Helen at helen.earnshaw@prospectsfoundation.org.uk\, telephone 01254 230348\, or call into the Prospects office at 54 Broadway\, Accrington\, BB5 1EW. \nThis session is part of the bigger TreeACTION Project\, which aims to improve Hyndburn’s habitat corridors through woodland creation and enhancement\, as well as sequester carbon\, which will benefit Hyndburn for years to come!
URL:https://prospectsfoundation.org.uk/event/tree-planting-at-woodnook-vale-lnr-5/
LOCATION:Woodnook Vale LNR – Royds Street\, 140 Royds Steet\, Accrington\, Lancashire\, BB5 2LW\, United Kingdom
CATEGORIES:Conservation,Volunteering
ATTACH;FMTTYPE=image/png:https://prospectsfoundation.org.uk/wp-content/uploads/2024/01/Website-header-TfC-logo.png
ORGANIZER;CN="Helen%20Earnshaw%20-%20Community%20TreeACTION%20Officer":MAILTO:helen.earnshaw@prospectsfoundation.org.uk
END:VEVENT
BEGIN:VEVENT
DTSTART;TZID=Europe/London:20240326T130000
DTEND;TZID=Europe/London:20240326T143000
DTSTAMP:20260424T221502
CREATED:20240301T143022Z
LAST-MODIFIED:20240301T143022Z
UID:11609-1711458000-1711463400@prospectsfoundation.org.uk
SUMMARY:Weekly Butterfly & Bee Survey at Peel Park and the Coppice LNR
DESCRIPTION:Join us every Tuesday @1pm (weather permitting) until September 2024. The transects start in Pleck Meadow and go around the whole site\, where participants will count and ID every butterfly or bee they see. This data will then be submitted to UKBMS and the Bumblebee Conservation Trust respectively. \nThe surveys are open to all members of the public\, whether you are a butterfly novice or an invertebrate expert. The walk around the site will help you stay fit and get in touch with nature! (Under 18s must be accompanied by an adult; well-behaved dogs are welcome.) \nMeeting point & Accessibility: Robert will be in the Peel Park Car Park next to the bowling green at the end of Peel Park Avenue\, BB5 6UQ at 1pm. Look for Robert in his orange hi-vis! By 1:15pm\, the group should arrive at the starting point for the transect\, where attendees on foot are welcome to meet. This map details the meeting points as well shows the route taken. Some areas of the walk are not accessible for everyone\, but there are alternate routes which individuals may take to avoid these. \nThe transect route for bee and butterfly surveys!\nDate & Time: Every Tuesday @1pm. The survey is subject to weather conditions. Assume that if is below 10°C\, there are wind gusts above 20mph\, and/or it is raining\, that the survey will not go ahead and will be done at another point in the week if feasible. \nIf you are interested in attending surveys throughout the year\, would like more information\, or would like to notified if/when a survey is not going ahead\, get in touch with Robert: \n\nEmail: robert.gabryszak@prospectsfoundation.org.uk\nCall: 01254 230348 (Ext. 208)
URL:https://prospectsfoundation.org.uk/event/weekly-butterfly-bee-survey-at-peel-park-and-the-coppice-lnr-3/
LOCATION:Peel Park and the Coppice Local Nature Reserve\, Main car park off Peel Park Avenue (next to the bowling green)\, Accrington\, Lancashire\, BB5 6HL\, United Kingdom
CATEGORIES:Conservation,Family,Health and wellbeing,Outdoor Learning,Peel Park and the Coppice LNR,Volunteering,Walking,Woodlands
ATTACH;FMTTYPE=image/png:https://prospectsfoundation.org.uk/wp-content/uploads/2024/02/3.png
ORGANIZER;CN="Chloe%20Jameson":MAILTO:chloe.jameson@prospectsfoundation.org.uk
END:VEVENT
END:VCALENDAR