BEGIN:VCALENDAR
VERSION:2.0
PRODID:-//Prospects - ECPv5.14.1//NONSGML v1.0//EN
CALSCALE:GREGORIAN
METHOD:PUBLISH
X-WR-CALNAME:Prospects
X-ORIGINAL-URL:https://prospectsfoundation.org.uk
X-WR-CALDESC:Events for Prospects
BEGIN:VTIMEZONE
TZID:Europe/London
BEGIN:DAYLIGHT
TZOFFSETFROM:+0000
TZOFFSETTO:+0100
TZNAME:BST
DTSTART:20240331T010000
END:DAYLIGHT
BEGIN:STANDARD
TZOFFSETFROM:+0100
TZOFFSETTO:+0000
TZNAME:GMT
DTSTART:20241027T010000
END:STANDARD
END:VTIMEZONE
BEGIN:VEVENT
DTSTART;TZID=Europe/London:20240311T100000
DTEND;TZID=Europe/London:20240311T130000
DTSTAMP:20260425T005609
CREATED:20240229T160148Z
LAST-MODIFIED:20240229T160148Z
UID:11518-1710151200-1710162000@prospectsfoundation.org.uk
SUMMARY:Conservation Volunteers session - Peel Park and the Coppice Local Nature Reserve
DESCRIPTION:Join us for a weekly conservation volunteers session at Peel Park and the Coppice Local Nature Reserve\, every Monday and Thursday* from 10am – 1pm. We’ll be carrying out conservation work to benefit pollinators throughout the year as a part of our Pollinator Networks project!  Come along and learn new skills\, meet people\, keep fit\, and help wildlife! \nTo book a place or find out more email robert.gabryszak@prospectsfoundation.org.uk\, telephone 01254 230348 or call into the Prospects office at 54 Broadway\, Accrington \n*Except Bank Holidays\, Monday 18th\, and Thursday 21st & 29th. \n 
URL:https://prospectsfoundation.org.uk/event/conservation-volunteers-session-peel-park-and-the-coppice-local-nature-reserve-109/
LOCATION:Peel Park and the Coppice Local Nature Reserve\, Main car park off Peel Park Avenue (next to the bowling green)\, Accrington\, Lancashire\, BB5 6HL\, United Kingdom
CATEGORIES:Conservation,Health and wellbeing,Peel Park and the Coppice LNR,Volunteering
ATTACH;FMTTYPE=image/png:https://prospectsfoundation.org.uk/wp-content/uploads/2024/02/1.png
ORGANIZER;CN="Robert%20Gabryszak%20-%20LNR%20Project%20Officer":MAILTO:robert.gabryszak@prospectsfoundation.org.uk
END:VEVENT
BEGIN:VEVENT
DTSTART;TZID=Europe/London:20240311T100000
DTEND;TZID=Europe/London:20240311T130000
DTSTAMP:20260425T005609
CREATED:20240229T175144Z
LAST-MODIFIED:20240229T175144Z
UID:11547-1710151200-1710162000@prospectsfoundation.org.uk
SUMMARY:Tree Planting at Peel Park and the Coppice Local Nature Reserve
DESCRIPTION:Join our Community TreeACTION Officer Helen for a practical session planting hedgerow trees at Peel Park and the Coppice Local Nature Reserve in Accrington. \nThis week we’ll be teaming up with the Peel Park Pollinators Project\, carrying out conservation work to benefit pollinators! \n\nNo experience is necessary – just bring your enthusiasm!\nAll ages welcome. Children will need to be accompanied by an adult\nPlease wear suitable outdoor clothes and sturdy boots (wellies are advised)\n\nTo find out more or confirm your attendance\, please contact Helen at helen.earnshaw@prospectsfoundation.org.uk\, telephone 01254 230348\, or call into the Prospects office at 54 Broadway\, Accrington\, BB5 1EW. \nThe TreeACTION Project is a direct result of Hyndburn Borough Council’s Climate Emergency Declaration in September 2019 and is seen as one of the key projects where local people can help to reduce emissions within the borough.
URL:https://prospectsfoundation.org.uk/event/tree-planting-at-peel-park-and-the-coppice-local-nature-reserve-2/
LOCATION:Peel Park and the Coppice Local Nature Reserve\, Main car park off Peel Park Avenue (next to the bowling green)\, Accrington\, Lancashire\, BB5 6HL\, United Kingdom
CATEGORIES:Conservation,Health and wellbeing,Peel Park and the Coppice LNR,Volunteering
ATTACH;FMTTYPE=image/png:https://prospectsfoundation.org.uk/wp-content/uploads/2024/01/Website-header-TfC-logo.png
ORGANIZER;CN="Helen%20Earnshaw%20-%20Community%20TreeACTION%20Officer":MAILTO:helen.earnshaw@prospectsfoundation.org.uk
END:VEVENT
END:VCALENDAR