BEGIN:VCALENDAR
VERSION:2.0
PRODID:-//Prospects - ECPv5.14.1//NONSGML v1.0//EN
CALSCALE:GREGORIAN
METHOD:PUBLISH
X-WR-CALNAME:Prospects
X-ORIGINAL-URL:https://prospectsfoundation.org.uk
X-WR-CALDESC:Events for Prospects
BEGIN:VTIMEZONE
TZID:Europe/London
BEGIN:DAYLIGHT
TZOFFSETFROM:+0000
TZOFFSETTO:+0100
TZNAME:BST
DTSTART:20240331T010000
END:DAYLIGHT
BEGIN:STANDARD
TZOFFSETFROM:+0100
TZOFFSETTO:+0000
TZNAME:GMT
DTSTART:20241027T010000
END:STANDARD
END:VTIMEZONE
BEGIN:VEVENT
DTSTART;TZID=Europe/London:20240212T100000
DTEND;TZID=Europe/London:20240217T140000
DTSTAMP:20260425T032452
CREATED:20240202T131715Z
LAST-MODIFIED:20240206T174229Z
UID:11409-1707732000-1708178400@prospectsfoundation.org.uk
SUMMARY:February Half-term Activities
DESCRIPTION:Looking for something for the kids to do during the February half term?  PROSPECTS has a plethora of events and activities for all ages. \n\nMonday 12th Feb (10am-1pm) – Hedgerow/Tree-planting @Peel Park & the Coppice LNR\, Accrington (Contact helen.earnshaw@prospectsfoundation.org.uk)\nTuesday 13th Feb (11am-2pm) – Pancake Day Crafting Club @Woodnook Community Garden\, Accrington (Contact robert.gabryszak@prospectsfoundation.org.uk)\nTuesday 13th Feb (10am-1pm) – Tree-planting @Royds Street (Woodnook Vale LNR)\, Accrington (Contact helen.earnshaw@prospectsfoundation.org.uk)\nWednesday 14th Feb (9:30am-12pm) – Bird ID Walk with Dave Bickerton @Memorial Park\, Great Harwood (Contact brandon.cherry@prospectsfoundation.org.uk)\nThursday 15th Feb (10am-1pm) – Re-fill Thursday (with hot drinks and a crafting activity) @PROSPECTS Shop\, Accrington (Contact robert.gabryszak@prospectsfoundation.org.uk)\nFriday 16th Feb (10am-2pm) – Winter Tree ID Walk @Whinney Hill Woodland\, Accrington (contact brandon.cherry@prospectsfoundation.org.uk)\nSaturday 17th Feb (10am-2pm) – Litter Pick Walk @Arden Hall\, Accrington (contact robert.gabryszak@prospectsfoundation.org.uk)\n\nInterested in any of these events? Contact the respective email\, call 01254230348\, or pop in to our shop at 54 Broadway\, Accrington BB5 1EW.
URL:https://prospectsfoundation.org.uk/event/february-half-term-activities/
LOCATION:Peel Park and the Coppice Local Nature Reserve\, Main car park off Peel Park Avenue (next to the bowling green)\, Accrington\, Lancashire\, BB5 6HL\, United Kingdom
CATEGORIES:Conservation,Health and wellbeing,Peel Park and the Coppice LNR,Volunteering
ATTACH;FMTTYPE=image/png:https://prospectsfoundation.org.uk/wp-content/uploads/2024/02/February-Squares-3.png
ORGANIZER;CN="Robert%20Gabryszak%20-%20LNR%20Project%20Officer":MAILTO:robert.gabryszak@prospectsfoundation.org.uk
END:VEVENT
BEGIN:VEVENT
DTSTART;TZID=Europe/London:20240214T093000
DTEND;TZID=Europe/London:20240214T110000
DTSTAMP:20260425T032452
CREATED:20240202T101737Z
LAST-MODIFIED:20240202T103517Z
UID:11379-1707903000-1707908400@prospectsfoundation.org.uk
SUMMARY:Memorial Park - Winter Bird ID walk
DESCRIPTION:Join David Bickerton\, of the Lancashire and Cheshire Fauna Society\, and The PROSPECTS Foundation\, for a winter bird ID walk! Dave will be taking us for a stroll through Round Wood (inside Memorial Park) to learn all about the birds that call our frosty woodlands home! \nPlease wear sturdy boots\, long sleeves and full length trousers as we may be walking around brambles and nettles. Waterproofs may be needed\, depending on the weather. \nThis is a family-friendly event. Under 18’s must be supervised by a responsible adult. Dogs are not permitted at this event as we do not want to scare away any birds. \n\n\nWe will be meeting on Church Lane\, Great Harwood\, BB6 7PU. Staff will be in orange high-vis. \n\nBooking is essential. To find out more or book your place\, please contact Brandon at brandon.cherry@prospectsfoundation.org.uk or 07733 840842
URL:https://prospectsfoundation.org.uk/event/memorial-park-rhododendron-bashing-6/
LOCATION:Memorial Park\, Church Lane\, Great Harwood\, Lancashire\, BB6 7PR\, United Kingdom
CATEGORIES:Family,Health and wellbeing,Memorial Park,Outdoor Learning,Walking,Woodlands
ATTACH;FMTTYPE=image/png:https://prospectsfoundation.org.uk/wp-content/uploads/2024/01/Bird-2024-01-16-Robin-2.png
ORGANIZER;CN="Brandon%20Cherry":MAILTO:brandon.cherry@prospectsfoundation.org.uk
END:VEVENT
END:VCALENDAR