BEGIN:VCALENDAR
VERSION:2.0
PRODID:-//Prospects - ECPv5.14.1//NONSGML v1.0//EN
CALSCALE:GREGORIAN
METHOD:PUBLISH
X-WR-CALNAME:Prospects
X-ORIGINAL-URL:https://prospectsfoundation.org.uk
X-WR-CALDESC:Events for Prospects
BEGIN:VTIMEZONE
TZID:Europe/London
BEGIN:DAYLIGHT
TZOFFSETFROM:+0000
TZOFFSETTO:+0100
TZNAME:BST
DTSTART:20230326T010000
END:DAYLIGHT
BEGIN:STANDARD
TZOFFSETFROM:+0100
TZOFFSETTO:+0000
TZNAME:GMT
DTSTART:20231029T010000
END:STANDARD
END:VTIMEZONE
BEGIN:VEVENT
DTSTART;TZID=Europe/London:20231212T100000
DTEND;TZID=Europe/London:20231212T130000
DTSTAMP:20260425T121241
CREATED:20231122T131130Z
LAST-MODIFIED:20231122T131130Z
UID:10968-1702375200-1702386000@prospectsfoundation.org.uk
SUMMARY:Miller Fold Allotment session
DESCRIPTION:Join us for some sustainable food growing on our community garden. Every Tuesday 10am to 1pm. \nTasks will include; weeding\, composting and more… \nPlease wear warm\, weather appropriate clothing and robust footwear. Refreshments will be provided. Everyone welcome! \nContact Sonja sonja.bottomer@prospectsfoundation.org.uk or phone 01254 230348 to get involved or to find out more. \n \n 
URL:https://prospectsfoundation.org.uk/event/miller-fold-allotment-session-3/
LOCATION:Miller Fold Allotment\, Miller Fold Ave\, Accrington\, BB5 0NT\, United Kingdom
CATEGORIES:Conservation,Food Growing,Gardening,Volunteering
ATTACH;FMTTYPE=image/jpeg:https://prospectsfoundation.org.uk/wp-content/uploads/2023/08/IMG_20230905_104643-scaled-e1700657611539.jpg
ORGANIZER;CN="Sonja%20Bottomer":MAILTO:sonja.bottomer@prospectsfoundation.org.uk
END:VEVENT
BEGIN:VEVENT
DTSTART;TZID=Europe/London:20231212T100000
DTEND;TZID=Europe/London:20231212T130000
DTSTAMP:20260425T121241
CREATED:20231129T162856Z
LAST-MODIFIED:20231129T162856Z
UID:11041-1702375200-1702386000@prospectsfoundation.org.uk
SUMMARY:Tree Planting at Harvey Street Oswaldtwistle
DESCRIPTION:Join our Community TreeACTION Officer Helen for a practical session planting trees at Harvey Street in Oswaldtwistle. \nWe will be meeting at Harvey Street\, Oswaldtwistle\, BB5 3LN. Staff will be in orange hi-vis. \n\nNo experience is necessary – just bring your enthusiasm!\nAll ages welcome. Children will need to be accompanied by an adult\nPlease wear suitable outdoor clothes and sturdy boots (wellies are advised)\n\nThe TreeACTION Project is a direct result of Hyndburn Borough Council’s Climate Emergency Declaration in September 2019 and is seen as one of the key projects where local people can help to reduce emissions within the borough. \nTo find out more or confirm your attendance\, please contact Helen at helen.earnshaw@prospectsfoundation.org.uk\, telephone 01254 230348\, or call into the Prospects office at 54 Broadway\, Accrington\, BB5 1EW. \nThis session is part of the bigger TreeACTION Project\, which aims to improve Hyndburn’s habitat corridors through woodland creation and enhancement\, as well as sequester carbon\, which will benefit Hyndburn for years to come!
URL:https://prospectsfoundation.org.uk/event/tree-planting-at-harvey-street/
LOCATION:Harvey Street\, Harvey Street\, Oswaldtwistle\, BB5 3LN
CATEGORIES:Conservation,Health and wellbeing,Volunteering
ORGANIZER;CN="Helen%20Earnshaw%20-%20Community%20TreeACTION%20Officer":MAILTO:helen.earnshaw@prospectsfoundation.org.uk
END:VEVENT
BEGIN:VEVENT
DTSTART;TZID=Europe/London:20231212T100000
DTEND;TZID=Europe/London:20231212T150000
DTSTAMP:20260425T121241
CREATED:20231201T110758Z
LAST-MODIFIED:20231201T110758Z
UID:11096-1702375200-1702393200@prospectsfoundation.org.uk
SUMMARY:Whinney Hill - Hyndburn's Woodlands
DESCRIPTION:Join Hyndburn’s Woodlands Officer Brandon for weekly practical conservation sessions\, this week we will be at Whinney Hill woodland\, carrying out some non-native tree felling and general thinning works to open up the crowded canopy. \nTools\, gloves and PPE will be provided. Please wear sturdy boots\, long sleeves and full length trousers as we may be working around brambles and nettles. Waterproofs may be needed\, depending on the weather. Please remember to bring warm items of clothing e.g.\, hats\, gloves\, extra thick socks\, spare fleeces/jackets. \nWe will be meeting at the end of Livingstone Road\, BB5 5BS (next to the Livingstone road allotments). Staff will be in orange high-vis. There is on-street parking available. \nTo find out more or confirm your attendance\, please contact Brandon at brandon.cherry@prospectsfoundation.org.uk or 07733 840842
URL:https://prospectsfoundation.org.uk/event/whinney-hill-hyndburns-woodlands-17/
LOCATION:Livingstone Road\, end of Livingstone Road\, Accrington\, Lancashire\, BB5 5BS\, United Kingdom
CATEGORIES:Health and wellbeing,Outdoor Learning,Volunteering,Woodlands
ATTACH;FMTTYPE=image/jpeg:https://prospectsfoundation.org.uk/wp-content/uploads/2022/04/20220228_115521-crop-scaled.jpg
ORGANIZER;CN="Brandon%20Cherry":MAILTO:brandon.cherry@prospectsfoundation.org.uk
END:VEVENT
BEGIN:VEVENT
DTSTART;TZID=Europe/London:20231212T180000
DTEND;TZID=Europe/London:20231212T200000
DTSTAMP:20260425T121241
CREATED:20231122T123522Z
LAST-MODIFIED:20231122T123723Z
UID:10954-1702404000-1702411200@prospectsfoundation.org.uk
SUMMARY:Plastic free Christmas tree decorations - Christmas evening craft session
DESCRIPTION:Join us for an evening of crafting at PROSPECTS. \nWe will be making a selection of plastic-free Christmas tree decorations\, both to take home and to help decorate our entry to the Ernest Street Christmas tree festival (more details below). Come along and contribute to the community festivities. \nJoin us on Tuesday 29th Nov @ 6pm – 8pm at PROSPECTS Foundation\, 54 Broadway\, Accrington\, BB5 1EW. And best of all… there will be festive drinks\, snacks and sweet treats provided! (If you have any allergies then please let us know beforehand). \nTo book a place contact Sonja  on sonja.bottomer@prospectsfoundation.org.uk or call (01254) 230348. \n \n 
URL:https://prospectsfoundation.org.uk/event/plastic-free-christmas-tree-decorations-christmas-evening-craft-session/
LOCATION:Prospects Environment Centre\, 54 Broadway\, Accrington\, BB51EW\, United Kingdom
CATEGORIES:Family,Nature Crafts,Recycling,Traditional Crafts
ATTACH;FMTTYPE=image/jpeg:https://prospectsfoundation.org.uk/wp-content/uploads/2023/11/image00020-scaled-e1700656469823.jpeg
ORGANIZER;CN="Sonja%20Bottomer":MAILTO:sonja.bottomer@prospectsfoundation.org.uk
END:VEVENT
END:VCALENDAR