BEGIN:VCALENDAR
VERSION:2.0
PRODID:-//Prospects - ECPv5.14.1//NONSGML v1.0//EN
CALSCALE:GREGORIAN
METHOD:PUBLISH
X-WR-CALNAME:Prospects
X-ORIGINAL-URL:https://prospectsfoundation.org.uk
X-WR-CALDESC:Events for Prospects
BEGIN:VTIMEZONE
TZID:Europe/London
BEGIN:DAYLIGHT
TZOFFSETFROM:+0000
TZOFFSETTO:+0100
TZNAME:BST
DTSTART:20230326T010000
END:DAYLIGHT
BEGIN:STANDARD
TZOFFSETFROM:+0100
TZOFFSETTO:+0000
TZNAME:GMT
DTSTART:20231029T010000
END:STANDARD
END:VTIMEZONE
BEGIN:VEVENT
DTSTART;TZID=Europe/London:20231207T100000
DTEND;TZID=Europe/London:20231207T140000
DTSTAMP:20260425T122218
CREATED:20231122T133117Z
LAST-MODIFIED:20231123T094733Z
UID:10979-1701943200-1701957600@prospectsfoundation.org.uk
SUMMARY:Eco refill shop - 54 Broadway
DESCRIPTION:PROSPECTS is now selling a selection of refills! \nBring a container\, grab a refill and start/restart  your refill journey. We currently stock laundry liquid\, fabric conditioner and washing up liquid to refill\, but are looking to expand our range if it proves popular. \nPop to the PROSPECTS office at 54 Broadway\, Accrington and ring the bell. We’re usually upstairs so don’t be put off if there’s no one around. Open between 10am and 2pm every Thursday. \nFor more info contact Sonja\, sonja.bottomer@prospectsfoundaton.org.uk or call (01254) 230348. \n 
URL:https://prospectsfoundation.org.uk/event/eco-refill-shop-54-broadway-2/
LOCATION:Prospects Environment Centre\, 54 Broadway\, Accrington\, BB51EW\, United Kingdom
CATEGORIES:Health and wellbeing,Recycling
ATTACH;FMTTYPE=image/png:https://prospectsfoundation.org.uk/wp-content/uploads/2023/11/Copy-of-PROSPECTS-SHOP-RE-FILLS-2.png
ORGANIZER;CN="Sonja%20Bottomer":MAILTO:sonja.bottomer@prospectsfoundation.org.uk
END:VEVENT
BEGIN:VEVENT
DTSTART;TZID=Europe/London:20231207T100000
DTEND;TZID=Europe/London:20231207T130000
DTSTAMP:20260425T122218
CREATED:20231204T110008Z
LAST-MODIFIED:20231204T110008Z
UID:11105-1701943200-1701954000@prospectsfoundation.org.uk
SUMMARY:Conservation Volunteers session - Peel Park and the Coppice Local Nature Reserve
DESCRIPTION:Join us for a weekly conservation volunteers session at Peel Park and the Coppice Local Nature Reserve\, every Monday and Thursday from 10am – 1pm (no session Thursday 9th.) We’ll be carrying out conservation work to benefit pollinators throughout the year as a part of our Pollinator Networks project!  Come along and learn new skills\, meet people\, keep fit\, and help wildlife! \nTo book a place or find out more email robert.gabryszak@prospectsfoundation.org.uk\, telephone 01254 230348 or call into the Prospects office at 54 Broadway\, Accrington
URL:https://prospectsfoundation.org.uk/event/conservation-volunteers-session-peel-park-and-the-coppice-local-nature-reserve-89/
LOCATION:Peel Park and the Coppice Local Nature Reserve\, Main car park off Peel Park Avenue (next to the bowling green)\, Accrington\, Lancashire\, BB5 6HL\, United Kingdom
CATEGORIES:Conservation,Health and wellbeing,Peel Park and the Coppice LNR,Volunteering
ATTACH;FMTTYPE=image/png:https://prospectsfoundation.org.uk/wp-content/uploads/2023/12/1.png
ORGANIZER;CN="Robert%20Gabryszak%20-%20LNR%20Project%20Officer":MAILTO:robert.gabryszak@prospectsfoundation.org.uk
END:VEVENT
END:VCALENDAR