BEGIN:VCALENDAR
VERSION:2.0
PRODID:-//Prospects - ECPv5.14.1//NONSGML v1.0//EN
CALSCALE:GREGORIAN
METHOD:PUBLISH
X-WR-CALNAME:Prospects
X-ORIGINAL-URL:https://prospectsfoundation.org.uk
X-WR-CALDESC:Events for Prospects
BEGIN:VTIMEZONE
TZID:Europe/London
BEGIN:DAYLIGHT
TZOFFSETFROM:+0000
TZOFFSETTO:+0100
TZNAME:BST
DTSTART:20190331T010000
END:DAYLIGHT
BEGIN:STANDARD
TZOFFSETFROM:+0100
TZOFFSETTO:+0000
TZNAME:GMT
DTSTART:20191027T010000
END:STANDARD
END:VTIMEZONE
BEGIN:VEVENT
DTSTART;VALUE=DATE:20191213
DTEND;VALUE=DATE:20191214
DTSTAMP:20260423T050534
CREATED:20191121T154108Z
LAST-MODIFIED:20191121T154119Z
UID:2240-1576195200-1576281599@prospectsfoundation.org.uk
SUMMARY:WOODY (Xmas Social)
DESCRIPTION:Sorry\, we’re having our annual Christmas Social today.  We’ll be off 10-pin bowling in Blackburn\, followed by a lovely curry. \nWe’ll be back on site next Friday (20th Dec) though! \nWOODY (Xmas Social)
URL:https://prospectsfoundation.org.uk/event/woody-xmas-social/
END:VEVENT
END:VCALENDAR