BEGIN:VCALENDAR
VERSION:2.0
PRODID:-//Prospects - ECPv5.14.1//NONSGML v1.0//EN
CALSCALE:GREGORIAN
METHOD:PUBLISH
X-WR-CALNAME:Prospects
X-ORIGINAL-URL:https://prospectsfoundation.org.uk
X-WR-CALDESC:Events for Prospects
BEGIN:VTIMEZONE
TZID:Europe/London
BEGIN:DAYLIGHT
TZOFFSETFROM:+0000
TZOFFSETTO:+0100
TZNAME:BST
DTSTART:20220327T010000
END:DAYLIGHT
BEGIN:STANDARD
TZOFFSETFROM:+0100
TZOFFSETTO:+0000
TZNAME:GMT
DTSTART:20221030T010000
END:STANDARD
END:VTIMEZONE
BEGIN:VEVENT
DTSTART;TZID=Europe/London:20220408T100000
DTEND;TZID=Europe/London:20220408T170000
DTSTAMP:20260423T034407
CREATED:20220311T143727Z
LAST-MODIFIED:20220311T143727Z
UID:6800-1649412000-1649437200@prospectsfoundation.org.uk
SUMMARY:Woody Hyndburn CIC Volunteering Day
DESCRIPTION:Woody Hyndburn CIC Volunteering Day \nJoin WOODY for a day of volunteer woodland management. \nActivities range from tree felling\, planting\, dead hedging\, balsam bashing and much more! \nLocations and tasks change on a weekly basis\, to register your interest or to find out more contact Gareth – gareth.muir@prospectsfoundation.org.uk \nWoody Hyndburn CIC Volunteering Day
URL:https://prospectsfoundation.org.uk/event/woody-hyndburn-cic-volunteering-day-3/
END:VEVENT
END:VCALENDAR