BEGIN:VCALENDAR
VERSION:2.0
PRODID:-//Prospects - ECPv5.14.1//NONSGML v1.0//EN
CALSCALE:GREGORIAN
METHOD:PUBLISH
X-WR-CALNAME:Prospects
X-ORIGINAL-URL:https://prospectsfoundation.org.uk
X-WR-CALDESC:Events for Prospects
BEGIN:VTIMEZONE
TZID:Europe/London
BEGIN:DAYLIGHT
TZOFFSETFROM:+0000
TZOFFSETTO:+0100
TZNAME:BST
DTSTART:20200329T010000
END:DAYLIGHT
BEGIN:STANDARD
TZOFFSETFROM:+0100
TZOFFSETTO:+0000
TZNAME:GMT
DTSTART:20201025T010000
END:STANDARD
END:VTIMEZONE
BEGIN:VEVENT
DTSTART;TZID=Europe/London:20200306T093000
DTEND;TZID=Europe/London:20200306T163000
DTSTAMP:20260423T011632
CREATED:20200224T144926Z
LAST-MODIFIED:20200312T114552Z
UID:2885-1583487000-1583512200@prospectsfoundation.org.uk
SUMMARY:WOODY (at Hollins Woodland)
DESCRIPTION:This Friday we will be at Hollins woodland (behind the school) in Baxenden\, Accrington. \nWe’ll be thinning the Ash and Larch and then planking the Larch in readiness to make bird\, bat and owl boxes plus some Forest School equipment. \nWe’ll be meeting at 9.30am on the roadside adjacent to the ‘Rec’ on Royds Avenue.  This is the road off Manchester Road (A680) at the Alma Inn. \nBelow is a map showing the location of the meeting point and the route to the work area. \n \n  \nWOODY (at Hollins Woodland)
URL:https://prospectsfoundation.org.uk/event/woody-fri-6th-mar/
LOCATION:Alma Inn\, 386-388 Manchester Road\, Accrington\, Lancashire\, BB5 2QG\, United Kingdom
CATEGORIES:Conservation,Volunteering,Woodlands
ATTACH;FMTTYPE=image/jpeg:https://prospectsfoundation.org.uk/wp-content/uploads/2019/10/Woody-Logo.jpg
END:VEVENT
END:VCALENDAR