BEGIN:VCALENDAR
VERSION:2.0
PRODID:-//Prospects - ECPv5.14.1//NONSGML v1.0//EN
CALSCALE:GREGORIAN
METHOD:PUBLISH
X-WR-CALNAME:Prospects
X-ORIGINAL-URL:https://prospectsfoundation.org.uk
X-WR-CALDESC:Events for Prospects
BEGIN:VTIMEZONE
TZID:Europe/London
BEGIN:DAYLIGHT
TZOFFSETFROM:+0000
TZOFFSETTO:+0100
TZNAME:BST
DTSTART:20200329T010000
END:DAYLIGHT
BEGIN:STANDARD
TZOFFSETFROM:+0100
TZOFFSETTO:+0000
TZNAME:GMT
DTSTART:20201025T010000
END:STANDARD
END:VTIMEZONE
BEGIN:VEVENT
DTSTART;TZID=Europe/London:20200214T103000
DTEND;TZID=Europe/London:20200214T160000
DTSTAMP:20260422T110803
CREATED:20200127T121614Z
LAST-MODIFIED:20200213T114434Z
UID:2599-1581676200-1581696000@prospectsfoundation.org.uk
SUMMARY:WOODY (at Burnley Road 'Rec')
DESCRIPTION:This Friday we’ll be back at Burnley Road ‘Rec’ working in a Hyndburn Borough Council owned woodland. \nThe work will be to thin a few trees on behalf of the council. \nWe’ll be meeting up on site at 10.30am. \nClick HERE to open a Google Map showing the location of the woodland. \n \nWOODY (at Burnley Road ‘Rec’)
URL:https://prospectsfoundation.org.uk/event/woody-fri-14th-feb/
LOCATION:Burnley Road ‘Rec’\, Burnley Road\, Accrington\, BB5 5TW
CATEGORIES:Conservation,Volunteering,Woodlands
ATTACH;FMTTYPE=image/jpeg:https://prospectsfoundation.org.uk/wp-content/uploads/2019/10/Woody-Logo.jpg
END:VEVENT
END:VCALENDAR