BEGIN:VCALENDAR
VERSION:2.0
PRODID:-//Prospects - ECPv5.14.1//NONSGML v1.0//EN
CALSCALE:GREGORIAN
METHOD:PUBLISH
X-WR-CALNAME:Prospects
X-ORIGINAL-URL:https://prospectsfoundation.org.uk
X-WR-CALDESC:Events for Prospects
BEGIN:VTIMEZONE
TZID:Europe/London
BEGIN:DAYLIGHT
TZOFFSETFROM:+0000
TZOFFSETTO:+0100
TZNAME:BST
DTSTART:20230326T010000
END:DAYLIGHT
BEGIN:STANDARD
TZOFFSETFROM:+0100
TZOFFSETTO:+0000
TZNAME:GMT
DTSTART:20231029T010000
END:STANDARD
END:VTIMEZONE
BEGIN:VEVENT
DTSTART;TZID=Europe/London:20230203T100000
DTEND;TZID=Europe/London:20230203T160000
DTSTAMP:20260425T172518
CREATED:20230127T095855Z
LAST-MODIFIED:20230127T095855Z
UID:8985-1675418400-1675440000@prospectsfoundation.org.uk
SUMMARY:Woody CIC Volunteering Day
DESCRIPTION:Woody (Hyndburn) CIC Volunteering Day \nJoin WOODY for a day of volunteer woodland management. \nLocations and tasks change on a weekly basis\, to register your interest or to find out more contact Gareth – gareth.muir@prospectsfoundation.org.uk \nFind out more about Woody here: http://woodyhyndburn.org.uk/ \nWoody Flyer 2022\nWoody CIC Volunteering Day
URL:https://prospectsfoundation.org.uk/event/woody-cic-volunteering-day-36/
CATEGORIES:Conservation,Volunteering,Woodlands
ORGANIZER;CN="Gareth%20Muir%20-%20Woodlands%20Officer":MAILTO:gareth.muir@prospectsfoundation.org.uk
END:VEVENT
END:VCALENDAR