BEGIN:VCALENDAR
VERSION:2.0
PRODID:-//Prospects - ECPv5.14.1//NONSGML v1.0//EN
CALSCALE:GREGORIAN
METHOD:PUBLISH
X-WR-CALNAME:Prospects
X-ORIGINAL-URL:https://prospectsfoundation.org.uk
X-WR-CALDESC:Events for Prospects
BEGIN:VTIMEZONE
TZID:Europe/London
BEGIN:DAYLIGHT
TZOFFSETFROM:+0000
TZOFFSETTO:+0100
TZNAME:BST
DTSTART:20200329T010000
END:DAYLIGHT
BEGIN:STANDARD
TZOFFSETFROM:+0100
TZOFFSETTO:+0000
TZNAME:GMT
DTSTART:20201025T010000
END:STANDARD
END:VTIMEZONE
BEGIN:VEVENT
DTSTART;TZID=Europe/London:20200207T093000
DTEND;TZID=Europe/London:20200207T160000
DTSTAMP:20260422T190746
CREATED:20200127T121046Z
LAST-MODIFIED:20200127T121046Z
UID:2596-1581067800-1581091200@prospectsfoundation.org.uk
SUMMARY:WOODY (at Burnley Road 'Rec')
DESCRIPTION:This week we’ll be working in a Hyndburn Borough Council owned woodland alongside Burnley Road ‘Rec’ in Clayton-le-Moors. \nThe work will be to thin a few trees on behalf of the council. \nWe’ll be meeting at 9.30am. \nClick HERE to open a Google Map showing the location of the woodland. \n  \nWOODY (at Burnley Road ‘Rec’)
URL:https://prospectsfoundation.org.uk/event/woody-at-burnley-road-rec/
CATEGORIES:Conservation,Volunteering,Woodlands
ATTACH;FMTTYPE=image/jpeg:https://prospectsfoundation.org.uk/wp-content/uploads/2019/10/Woody-Logo.jpg
END:VEVENT
END:VCALENDAR