BEGIN:VCALENDAR
VERSION:2.0
PRODID:-//Prospects - ECPv5.14.1//NONSGML v1.0//EN
CALSCALE:GREGORIAN
METHOD:PUBLISH
X-WR-CALNAME:Prospects
X-ORIGINAL-URL:https://prospectsfoundation.org.uk
X-WR-CALDESC:Events for Prospects
BEGIN:VTIMEZONE
TZID:Europe/London
BEGIN:DAYLIGHT
TZOFFSETFROM:+0000
TZOFFSETTO:+0100
TZNAME:BST
DTSTART:20190331T010000
END:DAYLIGHT
BEGIN:STANDARD
TZOFFSETFROM:+0100
TZOFFSETTO:+0000
TZNAME:GMT
DTSTART:20191027T010000
END:STANDARD
END:VTIMEZONE
BEGIN:VEVENT
DTSTART;TZID=Europe/London:20191108T100000
DTEND;TZID=Europe/London:20191108T153000
DTSTAMP:20260422T201315
CREATED:20191029T154554Z
LAST-MODIFIED:20191107T152958Z
UID:2022-1573207200-1573227000@prospectsfoundation.org.uk
SUMMARY:WOODY (at Lonsdale Street)
DESCRIPTION:WOODY is the name of our woodland social enterprise.  Set up by Prospects in 2012 it is run by volunteers who look after and manage local woodlands in Hyndburn. \nThis week we’ll be cutting back vegetation and alder regeneration along the black path in Accrington. \nThis is the path that runs alongside the Accrington to Church & Oswaldtwistle Railway line. \nWe’ll be meeting at 10.00am on Lonsdale Street underneath the Railway bridge. Click HERE to see a Google Map view of the meeting point. \nAll tools will be provided. \nBrews are provided but please bring your own lunch. \nWe work in all weathers so please wear suitable clothing for the day. \nWOODY (at Lonsdale Street)
URL:https://prospectsfoundation.org.uk/event/woody-3/
LOCATION:Lonsdale Street\, Lonsdale Street\, Accrington\, Lancashire\, BB5 0HJ
CATEGORIES:Conservation,Volunteering,Woodlands
END:VEVENT
END:VCALENDAR