BEGIN:VCALENDAR
VERSION:2.0
PRODID:-//Prospects - ECPv5.14.1//NONSGML v1.0//EN
CALSCALE:GREGORIAN
METHOD:PUBLISH
X-WR-CALNAME:Prospects
X-ORIGINAL-URL:https://prospectsfoundation.org.uk
X-WR-CALDESC:Events for Prospects
BEGIN:VTIMEZONE
TZID:Europe/London
BEGIN:DAYLIGHT
TZOFFSETFROM:+0000
TZOFFSETTO:+0100
TZNAME:BST
DTSTART:20190331T010000
END:DAYLIGHT
BEGIN:STANDARD
TZOFFSETFROM:+0100
TZOFFSETTO:+0000
TZNAME:GMT
DTSTART:20191027T010000
END:STANDARD
END:VTIMEZONE
BEGIN:VEVENT
DTSTART;TZID=Europe/London:20191101T100000
DTEND;TZID=Europe/London:20191101T163000
DTSTAMP:20260423T034222
CREATED:20191028T164649Z
LAST-MODIFIED:20191107T153035Z
UID:1989-1572602400-1572625800@prospectsfoundation.org.uk
SUMMARY:WOODY (at Whinney Hill)
DESCRIPTION:WOODY is the name of our woodland social enterprise.  Set up by Prospects in 2012 it is run by volunteers who look after and manage local woodlands in Hyndburn. \nThis week we’ll be continuing to install our rather impressive flight of steps from the bottom path up to the new butterfly meadow.  There was already a desire line path but it was always wet\, slippy and somewhat dangerous to use which put people off from visiting the meadow. \nThroughout the summer of 2019 our hardy band of volunteers have installed steps using timber and reclaimed stone to create an accessible path linking to the 59 steps at the other end of the meadow.  This has helped to create a new circular walk on the site. \nWe meet at 10.00am at the Livingstone Road entrance to the Whinney Hill site and then trvael to the work area.  Brews are provided but please bring your own lunch. \nWe work in all weathers so please wear suitable clothing for the day. \n \nWOODY (at Whinney Hill)
URL:https://prospectsfoundation.org.uk/event/woody-2/
LOCATION:Livingstone Road\, end of Livingstone Road\, Accrington\, Lancashire\, BB5 5BS\, United Kingdom
CATEGORIES:Conservation,Volunteering,Woodlands
END:VEVENT
END:VCALENDAR