BEGIN:VCALENDAR
VERSION:2.0
PRODID:-//Prospects - ECPv5.14.1//NONSGML v1.0//EN
CALSCALE:GREGORIAN
METHOD:PUBLISH
X-WR-CALNAME:Prospects
X-ORIGINAL-URL:https://prospectsfoundation.org.uk
X-WR-CALDESC:Events for Prospects
BEGIN:VTIMEZONE
TZID:Europe/London
BEGIN:DAYLIGHT
TZOFFSETFROM:+0000
TZOFFSETTO:+0100
TZNAME:BST
DTSTART:20250330T010000
END:DAYLIGHT
BEGIN:STANDARD
TZOFFSETFROM:+0100
TZOFFSETTO:+0000
TZNAME:GMT
DTSTART:20251026T010000
END:STANDARD
END:VTIMEZONE
BEGIN:VEVENT
DTSTART;TZID=Europe/London:20250909T100000
DTEND;TZID=Europe/London:20250909T150000
DTSTAMP:20260423T005526
CREATED:20250827T143856Z
LAST-MODIFIED:20250827T143856Z
UID:15145-1757412000-1757430000@prospectsfoundation.org.uk
SUMMARY:Woodnook Vale - Overhanging Branch Management
DESCRIPTION:Join Hyndburn’s Woodlands Officer Brandon for weekly practical conservation sessions. \n\n\nThis week we will be at Woodnook Vale LNR carrying out some site maintenance. We will be using pole pruners to cut away overhanging branches that pose a risk to passer-by’s or that need removing to promote tree health. \nWe will be having a tractor onsite at Jubilee meadow this day\, which may well need guards to prevent loose dogs from entering its space. If this is the case\, we will be changing the session to tree seed collection at Jubilee woodlands\, wherein I will guard the tractor. \nPlease note if we are going ahead with the overhanging branch management steel-toe capped boots are essential for the session. Other PPE will be provided by The PROSPECTS Foundation (hard hats\, safety gloves\, goggles) \n\n\nWe will be meeting on Hollins Lane regardless\, BB5 2QY (Just next to the Hollins School). \n\n\nTo find out more or confirm your attendance\, please contact Brandon at brandon.cherry@prospectsfoundation.org.uk or 07733 840842 \n\nWoodnook Vale – Overhanging Branch Management
URL:https://prospectsfoundation.org.uk/event/woodnook-vale-overhanging-branch-management/
LOCATION:Woodnook Vale LNR – Hollins Ln\, 165 Hollins Lane\, Accrington\, BB5 2QY
CATEGORIES:Conservation,Health and wellbeing,Outdoor Learning,Volunteering,Woodlands
ATTACH;FMTTYPE=image/jpeg:https://prospectsfoundation.org.uk/wp-content/uploads/2025/08/IMG_20250422_104214-1.jpg
ORGANIZER;CN="Brandon%20Cherry":MAILTO:brandon.cherry@prospectsfoundation.org.uk
END:VEVENT
END:VCALENDAR