BEGIN:VCALENDAR
VERSION:2.0
PRODID:-//Prospects - ECPv5.14.1//NONSGML v1.0//EN
CALSCALE:GREGORIAN
METHOD:PUBLISH
X-WR-CALNAME:Prospects
X-ORIGINAL-URL:https://prospectsfoundation.org.uk
X-WR-CALDESC:Events for Prospects
BEGIN:VTIMEZONE
TZID:Europe/London
BEGIN:DAYLIGHT
TZOFFSETFROM:+0000
TZOFFSETTO:+0100
TZNAME:BST
DTSTART:20250330T010000
END:DAYLIGHT
BEGIN:STANDARD
TZOFFSETFROM:+0100
TZOFFSETTO:+0000
TZNAME:GMT
DTSTART:20251026T010000
END:STANDARD
END:VTIMEZONE
BEGIN:VEVENT
DTSTART;TZID=Europe/London:20250708T100000
DTEND;TZID=Europe/London:20250708T150000
DTSTAMP:20260420T053805
CREATED:20250627T144306Z
LAST-MODIFIED:20250627T144306Z
UID:14799-1751968800-1751986800@prospectsfoundation.org.uk
SUMMARY:Woodnook Vale - Hyndburn's Woodlands
DESCRIPTION:Join Hyndburn’s Woodlands Officer Brandon for weekly practical conservation sessions. \n\nThis week we will be at Woodnook Vale LNR carrying out site maintenance. This will involve using chemicals such as Acetone to remove graffiti from noticeboards. Secondary tasks include using hand tools like loppers and bow saws to clear overhanging branches. \n\nTools\, gloves and PPE will be provided. Please wear sturdy boots\, long sleeves and full length trousers. \nWe will be meeting at the Royds Street entrance to the site\, BB5 2LW. There is on-street parking available. Staff will be in orange hi-vis. \nTo find out more or confirm your attendance\, please contact Brandon at brandon.cherry@prospectsfoundation.org.uk or 07733 840842 \n\nWoodnook Vale – Hyndburn’s Woodlands
URL:https://prospectsfoundation.org.uk/event/woodnook-vale-hyndburns-woodlands-15/
LOCATION:Woodnook Vale LNR – Royds Street\, 140 Royds Steet\, Accrington\, Lancashire\, BB5 2LW\, United Kingdom
CATEGORIES:Conservation,Health and wellbeing,Volunteering,Woodlands
ATTACH;FMTTYPE=image/jpeg:https://prospectsfoundation.org.uk/wp-content/uploads/2025/06/IMG_20241203_101935.jpg
ORGANIZER;CN="Brandon%20Cherry":MAILTO:brandon.cherry@prospectsfoundation.org.uk
END:VEVENT
END:VCALENDAR