BEGIN:VCALENDAR
VERSION:2.0
PRODID:-//Prospects - ECPv5.14.1//NONSGML v1.0//EN
CALSCALE:GREGORIAN
METHOD:PUBLISH
X-WR-CALNAME:Prospects
X-ORIGINAL-URL:https://prospectsfoundation.org.uk
X-WR-CALDESC:Events for Prospects
BEGIN:VTIMEZONE
TZID:Europe/London
BEGIN:DAYLIGHT
TZOFFSETFROM:+0000
TZOFFSETTO:+0100
TZNAME:BST
DTSTART:20250330T010000
END:DAYLIGHT
BEGIN:STANDARD
TZOFFSETFROM:+0100
TZOFFSETTO:+0000
TZNAME:GMT
DTSTART:20251026T010000
END:STANDARD
END:VTIMEZONE
BEGIN:VEVENT
DTSTART;TZID=Europe/London:20250311T100000
DTEND;TZID=Europe/London:20250311T150000
DTSTAMP:20260423T123017
CREATED:20250227T103950Z
LAST-MODIFIED:20250227T103950Z
UID:13972-1741687200-1741705200@prospectsfoundation.org.uk
SUMMARY:Woodnook Vale - Hyndburn's Woodlands
DESCRIPTION:Join Hyndburn’s Woodlands Officer Brandon for weekly practical conservation sessions. This week\, we will be at Woodnook Vale LNR carrying out some Invasive Non-Native Species management. This will take the form of Small-leaved Cotoneaster removal. \n\nTasks include using loppers and secateurs to clear vegetation\, followed by using spades to remove the root ball. \n\nTools\, gloves and PPE will be provided. Please wear sturdy boots\, long sleeves and full length trousers. \nWe will be meeting at the Hurstead entrance to the site\, on-street parking is available on Scott Avenue\, BB5 2XA. Staff will be in orange hi-vis. \nTo find out more or confirm your attendance\, please contact Brandon at brandon.cherry@prospectsfoundation.org.uk or 07733 840842 \n\nWoodnook Vale – Hyndburn’s Woodlands
URL:https://prospectsfoundation.org.uk/event/woodnook-vale-hyndburns-woodlands-13/
LOCATION:Woodnook Vale LNR – Hurstead St\, Hurstead St\, Accrington\, Lancashire\, BB5 2RH\, United Kingdom
CATEGORIES:Conservation,Health and wellbeing,Volunteering,Woodlands
ATTACH;FMTTYPE=image/jpeg:https://prospectsfoundation.org.uk/wp-content/uploads/2025/02/IMG_20240326_120219.jpg
ORGANIZER;CN="Brandon%20Cherry":MAILTO:brandon.cherry@prospectsfoundation.org.uk
END:VEVENT
END:VCALENDAR