BEGIN:VCALENDAR
VERSION:2.0
PRODID:-//Prospects - ECPv5.14.1//NONSGML v1.0//EN
CALSCALE:GREGORIAN
METHOD:PUBLISH
X-WR-CALNAME:Prospects
X-ORIGINAL-URL:https://prospectsfoundation.org.uk
X-WR-CALDESC:Events for Prospects
BEGIN:VTIMEZONE
TZID:Europe/London
BEGIN:DAYLIGHT
TZOFFSETFROM:+0000
TZOFFSETTO:+0100
TZNAME:BST
DTSTART:20250330T010000
END:DAYLIGHT
BEGIN:STANDARD
TZOFFSETFROM:+0100
TZOFFSETTO:+0000
TZNAME:GMT
DTSTART:20251026T010000
END:STANDARD
END:VTIMEZONE
BEGIN:VEVENT
DTSTART;TZID=Europe/London:20250114T100000
DTEND;TZID=Europe/London:20250114T150000
DTSTAMP:20260423T211228
CREATED:20241218T120358Z
LAST-MODIFIED:20241218T120358Z
UID:13541-1736848800-1736866800@prospectsfoundation.org.uk
SUMMARY:Woodnook Vale  - Hyndburn's Woodlands
DESCRIPTION:Join Hyndburn’s Woodlands Officer Brandon for weekly practical conservation sessions. This week\, we will be carrying out some INNS management. This will either involve using spades and loppers to clear Snowberry roots\, or\, if this proves too difficult\, we will be using bow saws and loppers to clear Cotoneaster. \nTools\, gloves and PPE will be provided. Please wear sturdy boots\, long sleeves and full length trousers as we may be working around brambles and nettles. Waterproofs may be needed\, depending on the weather. \nWe will be at the Hurstead entrance to the Vale\, parking is available on Scott Avenue\, BB5 2XA. Staff will be in orange hi-vis. \nTo find out more or confirm your attendance\, please contact Brandon at brandon.cherry@prospectsfoundation.org.uk or 07733 840842 \n\nWoodnook Vale  – Hyndburn’s Woodlands
URL:https://prospectsfoundation.org.uk/event/woodnook-vale-hyndburns-woodlands-12/
LOCATION:Woodnook Vale LNR – Hurstead St\, Hurstead St\, Accrington\, Lancashire\, BB5 2RH\, United Kingdom
CATEGORIES:Health and wellbeing,Volunteering,Woodlands
ATTACH;FMTTYPE=image/jpeg:https://prospectsfoundation.org.uk/wp-content/uploads/2024/12/IMG_20241015_101414.jpg
ORGANIZER;CN="Brandon%20Cherry":MAILTO:brandon.cherry@prospectsfoundation.org.uk
END:VEVENT
END:VCALENDAR