BEGIN:VCALENDAR
VERSION:2.0
PRODID:-//Prospects - ECPv5.14.1//NONSGML v1.0//EN
CALSCALE:GREGORIAN
METHOD:PUBLISH
X-WR-CALNAME:Prospects
X-ORIGINAL-URL:https://prospectsfoundation.org.uk
X-WR-CALDESC:Events for Prospects
BEGIN:VTIMEZONE
TZID:Europe/London
BEGIN:DAYLIGHT
TZOFFSETFROM:+0000
TZOFFSETTO:+0100
TZNAME:BST
DTSTART:20230326T010000
END:DAYLIGHT
BEGIN:STANDARD
TZOFFSETFROM:+0100
TZOFFSETTO:+0000
TZNAME:GMT
DTSTART:20231029T010000
END:STANDARD
END:VTIMEZONE
BEGIN:VEVENT
DTSTART;TZID=Europe/London:20230207T100000
DTEND;TZID=Europe/London:20230207T130000
DTSTAMP:20260425T211421
CREATED:20230131T143144Z
LAST-MODIFIED:20230131T155323Z
UID:9020-1675764000-1675774800@prospectsfoundation.org.uk
SUMMARY:Woodnook Vale - Green Team Volunteering
DESCRIPTION:Join our ‘Green Team’ of conservation volunteers led by our Green Spaces staff members: Helen\, Brandon & Chloe. \nThis week we will be doing some fence maintenance in Hollins Woods by removing the barbed wire fencing that has fallen into disrepair. \nWe will be meeting at the Hollins Lane entrance to Woodnook Vale\, next to The Hollins school\, Accrington BB5 2QY. Please bring sturdy boots (steel-toe capped if possible) and appropriate clothing/waterproofs. All equipment and PPE will be provided. \nTo find out more or confirm your attendance\, please contact Helen at helen.earnshaw@prospectsfoundation.org.uk\, telephone 07733 018248 or call into the Prospects office at 54 Broadway\, Accrington\, BB5 1EW. \nWoodnook Vale – Green Team Volunteering
URL:https://prospectsfoundation.org.uk/event/woodnook-vale-green-team-volunteering-9/
LOCATION:Woodnook Vale LNR – Hollins Ln\, 165 Hollins Lane\, Accrington\, BB5 2QY
CATEGORIES:Health and wellbeing,Outdoor Learning,Volunteering,Woodlands
ATTACH;FMTTYPE=image/png:https://prospectsfoundation.org.uk/wp-content/uploads/2023/01/INNS-removal-e1672930588680.png
ORGANIZER;CN="Helen%20Earnshaw%20-%20Community%20TreeACTION%20Officer":MAILTO:helen.earnshaw@prospectsfoundation.org.uk
END:VEVENT
END:VCALENDAR