BEGIN:VCALENDAR
VERSION:2.0
PRODID:-//Prospects - ECPv5.14.1//NONSGML v1.0//EN
CALSCALE:GREGORIAN
METHOD:PUBLISH
X-WR-CALNAME:Prospects
X-ORIGINAL-URL:https://prospectsfoundation.org.uk
X-WR-CALDESC:Events for Prospects
BEGIN:VTIMEZONE
TZID:Europe/London
BEGIN:DAYLIGHT
TZOFFSETFROM:+0000
TZOFFSETTO:+0100
TZNAME:BST
DTSTART:20230326T010000
END:DAYLIGHT
BEGIN:STANDARD
TZOFFSETFROM:+0100
TZOFFSETTO:+0000
TZNAME:GMT
DTSTART:20231029T010000
END:STANDARD
END:VTIMEZONE
BEGIN:VEVENT
DTSTART;TZID=Europe/London:20230511T100000
DTEND;TZID=Europe/London:20230511T150000
DTSTAMP:20260426T023108
CREATED:20230503T093955Z
LAST-MODIFIED:20230503T093955Z
UID:9753-1683799200-1683817200@prospectsfoundation.org.uk
SUMMARY:Woodnook Vale - Green Team Volunteering
DESCRIPTION:Join our ‘Green Team’ of conservation volunteers led by our Green Spaces staff members: Helen\, Brandon & Chloe. \nThis task day will be back at Hollins Wood\, following on from Tuesday’s session and erecting the dry stone wall we prepped earlier. Don’t worry if you haven’t had any prior experience or training\, we will give a demonstration and provide guidance throughout the session. \nTools\, gloves and PPE will be provided. Please wear sturdy boots (ideally hardened toe-caps)\, long sleeves and full length trousers. Bring your own lunch and refreshments. \nWe will be meeting by the school on Hollins Lane\, BB5 2LD. There is on street parking available. Staff will be wearing an orange hi-vis. \nTo find out more or confirm your attendance\, please contact Helen at helen.earnshaw@prospectsfoundation.org.uk\, telephone 01254 230 348 or call into the Prospects office at 54 Broadway\, Accrington\, BB5 1EW. \nWoodnook Vale – Green Team Volunteering
URL:https://prospectsfoundation.org.uk/event/woodnook-vale-green-team-volunteering-12/
LOCATION:Woodnook Vale LNR – Hollins Ln\, 165 Hollins Lane\, Accrington\, BB5 2QY
CATEGORIES:Conservation,Health and wellbeing,Traditional Crafts,Volunteering,Woodlands
ATTACH;FMTTYPE=image/jpeg:https://prospectsfoundation.org.uk/wp-content/uploads/2023/05/dry-stone-wall-for-website-scaled.jpg
ORGANIZER;CN="Helen%20Earnshaw%20-%20Green%20Spaces%20Officer":MAILTO:helen.earnshaw@prospectsfoundation.org.uk
END:VEVENT
END:VCALENDAR