BEGIN:VCALENDAR
VERSION:2.0
PRODID:-//Prospects - ECPv5.14.1//NONSGML v1.0//EN
CALSCALE:GREGORIAN
METHOD:PUBLISH
X-WR-CALNAME:Prospects
X-ORIGINAL-URL:https://prospectsfoundation.org.uk
X-WR-CALDESC:Events for Prospects
BEGIN:VTIMEZONE
TZID:Europe/London
BEGIN:DAYLIGHT
TZOFFSETFROM:+0000
TZOFFSETTO:+0100
TZNAME:BST
DTSTART:20210328T010000
END:DAYLIGHT
BEGIN:STANDARD
TZOFFSETFROM:+0100
TZOFFSETTO:+0000
TZNAME:GMT
DTSTART:20211031T010000
END:STANDARD
END:VTIMEZONE
BEGIN:VEVENT
DTSTART;TZID=Europe/London:20211220T110000
DTEND;TZID=Europe/London:20211220T140000
DTSTAMP:20260423T013644
CREATED:20211101T120202Z
LAST-MODIFIED:20211101T123213Z
UID:6194-1639998000-1640008800@prospectsfoundation.org.uk
SUMMARY:Woodnook Pioneers
DESCRIPTION:Want your kids to get out into nature this winter?  During the school holidays we are running a three Woodnook Pioneers sessions.  At this session we will be joined by Outdoors4All who will be teaching the children how to make a healthy\, nutritious meal over the campfire.  These sessions are aimed at families with children who receive free school meals. \nPlaces are limited\, to book email danielle.rowlands@prospectsfoundation.org.uk or fill out our online form by clicking the poster below. \n \nWoodnook Pioneers
URL:https://prospectsfoundation.org.uk/event/woodnook-pioneers-7/
LOCATION:Woodnook Community Garden\, Belfield Road\, Accrington
CATEGORIES:Outdoor Learning
ATTACH;FMTTYPE=image/png:https://prospectsfoundation.org.uk/wp-content/uploads/2021/11/Woodnook-Pioneers-Winter-1.png
ORGANIZER;CN="Danielle%20Rowlands%2C%20Outdoor%20Learning%20Officer":MAILTO:danielle.rowlands@prospectsfoundation.org.uk
END:VEVENT
END:VCALENDAR