BEGIN:VCALENDAR
VERSION:2.0
PRODID:-//Prospects - ECPv5.14.1//NONSGML v1.0//EN
CALSCALE:GREGORIAN
METHOD:PUBLISH
X-WR-CALNAME:Prospects
X-ORIGINAL-URL:https://prospectsfoundation.org.uk
X-WR-CALDESC:Events for Prospects
BEGIN:VTIMEZONE
TZID:Europe/London
BEGIN:DAYLIGHT
TZOFFSETFROM:+0000
TZOFFSETTO:+0100
TZNAME:BST
DTSTART:20210328T010000
END:DAYLIGHT
BEGIN:STANDARD
TZOFFSETFROM:+0100
TZOFFSETTO:+0000
TZNAME:GMT
DTSTART:20211031T010000
END:STANDARD
END:VTIMEZONE
BEGIN:VEVENT
DTSTART;TZID=Europe/London:20210824T100000
DTEND;TZID=Europe/London:20210824T120000
DTSTAMP:20260422T231637
CREATED:20210727T160236Z
LAST-MODIFIED:20210803T135217Z
UID:5292-1629799200-1629806400@prospectsfoundation.org.uk
SUMMARY:Woodnook Pioneers
DESCRIPTION:Want to explore the wild spaces of Woodnook?  Conquer the wilderness of Woodnook Community Garden and discover what wildlife lurks in Woodnook Vale.  Suitable for families with children aged 8-14.  Places are limited\, to book email danielle.rowlands@prospectsfoundation.org.uk or ring 01254 230348 or book online here \nTHEME:  Wild walk \n \nWoodnook Pioneers
URL:https://prospectsfoundation.org.uk/event/woodnook-pioneers-5/
LOCATION:Woodnook Community Garden\, Belfield Road\, Accrington
CATEGORIES:Family,Outdoor Learning
ORGANIZER;CN="Danielle%20Rowlands%2C%20Outdoor%20Learning%20Officer":MAILTO:danielle.rowlands@prospectsfoundation.org.uk
END:VEVENT
END:VCALENDAR