BEGIN:VCALENDAR
VERSION:2.0
PRODID:-//Prospects - ECPv5.14.1//NONSGML v1.0//EN
CALSCALE:GREGORIAN
METHOD:PUBLISH
X-WR-CALNAME:Prospects
X-ORIGINAL-URL:https://prospectsfoundation.org.uk
X-WR-CALDESC:Events for Prospects
BEGIN:VTIMEZONE
TZID:Europe/London
BEGIN:DAYLIGHT
TZOFFSETFROM:+0000
TZOFFSETTO:+0100
TZNAME:BST
DTSTART:20210328T010000
END:DAYLIGHT
BEGIN:STANDARD
TZOFFSETFROM:+0100
TZOFFSETTO:+0000
TZNAME:GMT
DTSTART:20211031T010000
END:STANDARD
END:VTIMEZONE
BEGIN:VEVENT
DTSTART;TZID=Europe/London:20210805T100000
DTEND;TZID=Europe/London:20210805T130000
DTSTAMP:20260422T132853
CREATED:20210803T154048Z
LAST-MODIFIED:20210803T154048Z
UID:5352-1628157600-1628168400@prospectsfoundation.org.uk
SUMMARY:Woodnook Community Garden Tidy Up
DESCRIPTION:Join Gareth as he tries to breathe life into this hidden gem.  Woodnook Community Garden is a beautiful wild space in the centre of Accrington\, it just needs a bit of TLC.  Gareth will be leading a session reclaiming the wilderness so that it benefits both humans and wildlife. \nIf you would like to attend\, email Gareth at gareth.muir@prospectsfoundation.org.uk \nThere are no toilets on site. \nWoodnook Community Garden Tidy Up
URL:https://prospectsfoundation.org.uk/event/woodnook-community-garden-tidy-up/
LOCATION:Woodnook Community Garden\, Belfield Road\, Accrington
ATTACH;FMTTYPE=image/jpeg:https://prospectsfoundation.org.uk/wp-content/uploads/2021/08/Macro-snail-on-tree-scaled.jpg
ORGANIZER;CN="Gareth%20Muir%20-%20Rewilding%20Officer":MAILTO:gareth.muir@prospectsfoundation.org.uk
END:VEVENT
END:VCALENDAR