BEGIN:VCALENDAR
VERSION:2.0
PRODID:-//Prospects - ECPv5.14.1//NONSGML v1.0//EN
CALSCALE:GREGORIAN
METHOD:PUBLISH
X-WR-CALNAME:Prospects
X-ORIGINAL-URL:https://prospectsfoundation.org.uk
X-WR-CALDESC:Events for Prospects
BEGIN:VTIMEZONE
TZID:Europe/London
BEGIN:DAYLIGHT
TZOFFSETFROM:+0000
TZOFFSETTO:+0100
TZNAME:BST
DTSTART:20220327T010000
END:DAYLIGHT
BEGIN:STANDARD
TZOFFSETFROM:+0100
TZOFFSETTO:+0000
TZNAME:GMT
DTSTART:20221030T010000
END:STANDARD
END:VTIMEZONE
BEGIN:VEVENT
DTSTART;TZID=Europe/London:20220315T100000
DTEND;TZID=Europe/London:20220315T133000
DTSTAMP:20260422T094909
CREATED:20220218T110846Z
LAST-MODIFIED:20220218T110846Z
UID:6735-1647338400-1647351000@prospectsfoundation.org.uk
SUMMARY:Woodnook Community Garden - Rewilding
DESCRIPTION:Join Gareth and the Rewilding Volunteers on Woodnook Community Garden! \nThis month’s tasks include; fruit tree/bush pruning\, composting\, mulching and seed sowing! \nContact Gareth – gareth.muir@prospectsfoundation.org.uk to book a place or to find out more! \nWoodnook Community Garden – Rewilding
URL:https://prospectsfoundation.org.uk/event/woodnook-community-garden-rewilding-5/
LOCATION:Woodnook Community Garden\, Belfield Road\, Accrington
CATEGORIES:Conservation,Food Growing,Gardening,Volunteering
ORGANIZER;CN="Gareth%20Muir%20-%20Rewilding%20Officer":MAILTO:gareth.muir@prospectsfoundation.org.uk
END:VEVENT
END:VCALENDAR