BEGIN:VCALENDAR
VERSION:2.0
PRODID:-//Prospects - ECPv5.14.1//NONSGML v1.0//EN
CALSCALE:GREGORIAN
METHOD:PUBLISH
X-WR-CALNAME:Prospects
X-ORIGINAL-URL:https://prospectsfoundation.org.uk
X-WR-CALDESC:Events for Prospects
BEGIN:VTIMEZONE
TZID:Europe/London
BEGIN:DAYLIGHT
TZOFFSETFROM:+0000
TZOFFSETTO:+0100
TZNAME:BST
DTSTART:20220327T010000
END:DAYLIGHT
BEGIN:STANDARD
TZOFFSETFROM:+0100
TZOFFSETTO:+0000
TZNAME:GMT
DTSTART:20221030T010000
END:STANDARD
END:VTIMEZONE
BEGIN:VEVENT
DTSTART;TZID=Europe/London:20220215T100000
DTEND;TZID=Europe/London:20220215T123000
DTSTAMP:20260422T220248
CREATED:20220117T131755Z
LAST-MODIFIED:20220117T131755Z
UID:6544-1644919200-1644928200@prospectsfoundation.org.uk
SUMMARY:Woodnook Community Garden - Rewilding
DESCRIPTION:Join Gareth and the Rewilding volunteers for some nature friendly gardening! This month’s session will include preparing the site for the growing season ahead. \nContact Gareth – gareth.muir@prospectsfoundation.org.uk to get involved or to find out more! \nWoodnook Community Garden – Rewilding
URL:https://prospectsfoundation.org.uk/event/woodnook-community-garden-rewilding-4/
LOCATION:Woodnook Community Garden\, Belfield Road\, Accrington
CATEGORIES:Conservation,Gardening,Volunteering
ORGANIZER;CN="Gareth%20Muir%20-%20Rewilding%20Officer":MAILTO:gareth.muir@prospectsfoundation.org.uk
END:VEVENT
END:VCALENDAR