BEGIN:VCALENDAR
VERSION:2.0
PRODID:-//Prospects - ECPv5.14.1//NONSGML v1.0//EN
CALSCALE:GREGORIAN
METHOD:PUBLISH
X-WR-CALNAME:Prospects
X-ORIGINAL-URL:https://prospectsfoundation.org.uk
X-WR-CALDESC:Events for Prospects
BEGIN:VTIMEZONE
TZID:Europe/London
BEGIN:DAYLIGHT
TZOFFSETFROM:+0000
TZOFFSETTO:+0100
TZNAME:BST
DTSTART:20200329T010000
END:DAYLIGHT
BEGIN:STANDARD
TZOFFSETFROM:+0100
TZOFFSETTO:+0000
TZNAME:GMT
DTSTART:20201025T010000
END:STANDARD
END:VTIMEZONE
BEGIN:VEVENT
DTSTART;TZID=Europe/London:20201209T103000
DTEND;TZID=Europe/London:20201209T143000
DTSTAMP:20260423T061605
CREATED:20201130T095518Z
LAST-MODIFIED:20201130T095518Z
UID:4443-1607509800-1607524200@prospectsfoundation.org.uk
SUMMARY:WOODLAND VOLUNTEERS
DESCRIPTION:WOODLAND VOLUNTEERS – The Hyndburn Woodland Project volunteers will be carrying out practical conservation activities on a woodland site in Intack. Wear warm\, old clothes and sensible\, strong shoes or boots. Bring a packed lunch and waterproof clothing. Due to Covid regulations we can’t provide refreshments and it would be helpful if you can bring your own gloves. Tools will be provided and the session will be run to meet Covid standards. Spaces are limited and must be booked in advance so please contact Roger on 07974 626835 or roger.plum@prospectsfoundation.org.uk to book a place and get location details. Please ensure you travel to the session in a Covid safe way. \nWOODLAND VOLUNTEERS
URL:https://prospectsfoundation.org.uk/event/woodland-volunteers/
CATEGORIES:Conservation,Volunteering,Woodlands
END:VEVENT
END:VCALENDAR