BEGIN:VCALENDAR
VERSION:2.0
PRODID:-//Prospects - ECPv5.14.1//NONSGML v1.0//EN
CALSCALE:GREGORIAN
METHOD:PUBLISH
X-WR-CALNAME:Prospects
X-ORIGINAL-URL:https://prospectsfoundation.org.uk
X-WR-CALDESC:Events for Prospects
BEGIN:VTIMEZONE
TZID:Europe/London
BEGIN:DAYLIGHT
TZOFFSETFROM:+0000
TZOFFSETTO:+0100
TZNAME:BST
DTSTART:20210328T010000
END:DAYLIGHT
BEGIN:STANDARD
TZOFFSETFROM:+0100
TZOFFSETTO:+0000
TZNAME:GMT
DTSTART:20211031T010000
END:STANDARD
END:VTIMEZONE
BEGIN:VEVENT
DTSTART;TZID=Europe/London:20210708T100000
DTEND;TZID=Europe/London:20210708T150000
DTSTAMP:20260422T184922
CREATED:20210329T101938Z
LAST-MODIFIED:20210329T101938Z
UID:4832-1625738400-1625756400@prospectsfoundation.org.uk
SUMMARY:Woodland Surveying Training
DESCRIPTION:Join John Lamb from Lancashire Wildlife Trust for two days of training. Day 1 will be tree ID training and Day 2 will be Condition Assessment Survey training. Numbers are limited\, location and booking details will be announced nearer the date. Sign up to our mailing list to ensure you are sent the details or check our website regularly. \nWoodland Surveying Training
URL:https://prospectsfoundation.org.uk/event/woodland-surveying-training-3/
CATEGORIES:Conservation,Woodlands
END:VEVENT
END:VCALENDAR