BEGIN:VCALENDAR
VERSION:2.0
PRODID:-//Prospects - ECPv5.14.1//NONSGML v1.0//EN
CALSCALE:GREGORIAN
METHOD:PUBLISH
X-WR-CALNAME:Prospects
X-ORIGINAL-URL:https://prospectsfoundation.org.uk
X-WR-CALDESC:Events for Prospects
BEGIN:VTIMEZONE
TZID:Europe/London
BEGIN:DAYLIGHT
TZOFFSETFROM:+0000
TZOFFSETTO:+0100
TZNAME:BST
DTSTART:20220327T010000
END:DAYLIGHT
BEGIN:STANDARD
TZOFFSETFROM:+0100
TZOFFSETTO:+0000
TZNAME:GMT
DTSTART:20221030T010000
END:STANDARD
END:VTIMEZONE
BEGIN:VEVENT
DTSTART;TZID=Europe/London:20220608T100000
DTEND;TZID=Europe/London:20220608T160000
DTSTAMP:20260422T191622
CREATED:20220520T110018Z
LAST-MODIFIED:20220520T110018Z
UID:7135-1654682400-1654704000@prospectsfoundation.org.uk
SUMMARY:Woodland Condition Assessment training with John Lamb LWT
DESCRIPTION:Join John Lamb from Lancashire Wildlife Trust for woodland condition assessment training. \nLearn how to survey a woodland recording the species on the site to inform management plans. \nPlaces are limited so please contact Gareth – gareth.muir@prospectsfoundation.org.uk to register your interest. \nWoodland Condition Assessment training with John Lamb LWT
URL:https://prospectsfoundation.org.uk/event/woodland-condition-assessment-training-with-john-lamb-lwt/
LOCATION:Whinney Hill Woodland – Livingstone Road/East Crescent BB5 5BX\, Livingstone Road\, Accrington\, BB5 5BX
ORGANIZER;CN="Gareth%20Muir%20-%20Woodlands%20Officer":MAILTO:gareth.muir@prospectsfoundation.org.uk
END:VEVENT
END:VCALENDAR