BEGIN:VCALENDAR
VERSION:2.0
PRODID:-//Prospects - ECPv5.14.1//NONSGML v1.0//EN
CALSCALE:GREGORIAN
METHOD:PUBLISH
X-WR-CALNAME:Prospects
X-ORIGINAL-URL:https://prospectsfoundation.org.uk
X-WR-CALDESC:Events for Prospects
BEGIN:VTIMEZONE
TZID:Europe/London
BEGIN:DAYLIGHT
TZOFFSETFROM:+0000
TZOFFSETTO:+0100
TZNAME:BST
DTSTART:20230326T010000
END:DAYLIGHT
BEGIN:STANDARD
TZOFFSETFROM:+0100
TZOFFSETTO:+0000
TZNAME:GMT
DTSTART:20231029T010000
END:STANDARD
END:VTIMEZONE
BEGIN:VEVENT
DTSTART;TZID=Europe/London:20230311T103000
DTEND;TZID=Europe/London:20230311T143000
DTSTAMP:20260426T032733
CREATED:20230222T164511Z
LAST-MODIFIED:20230222T164511Z
UID:9120-1678530600-1678545000@prospectsfoundation.org.uk
SUMMARY:Woodland Celebration
DESCRIPTION:Join PROSPECTS for a celebration of all things Woodlands! \nAs the Hyndburn’s Woodlands project draws to a close\, the team are putting on an event to celebrate all of the volunteer’s hard work over the course of the project. \nJoin us for a woodland walk on Woodnook Vale\, with woodland crafts and refreshments at Woodnook Community Centre. \nTo book your place\, please contact Gareth – gareth.muir@prospectsfoundation.org.uk \nWoodland Celebration
URL:https://prospectsfoundation.org.uk/event/woodland-celebration/
LOCATION:Woodnook Community Garden\, Belfield Road\, Accrington
CATEGORIES:Conservation,Traditional Crafts,Volunteering,Walking,Woodlands
ORGANIZER;CN="Gareth%20Muir%20-%20Woodlands%20Officer":MAILTO:gareth.muir@prospectsfoundation.org.uk
END:VEVENT
END:VCALENDAR