BEGIN:VCALENDAR
VERSION:2.0
PRODID:-//Prospects - ECPv5.14.1//NONSGML v1.0//EN
CALSCALE:GREGORIAN
METHOD:PUBLISH
X-WR-CALNAME:Prospects
X-ORIGINAL-URL:https://prospectsfoundation.org.uk
X-WR-CALDESC:Events for Prospects
BEGIN:VTIMEZONE
TZID:Europe/London
BEGIN:DAYLIGHT
TZOFFSETFROM:+0000
TZOFFSETTO:+0100
TZNAME:BST
DTSTART:20230326T010000
END:DAYLIGHT
BEGIN:STANDARD
TZOFFSETFROM:+0100
TZOFFSETTO:+0000
TZNAME:GMT
DTSTART:20231029T010000
END:STANDARD
END:VTIMEZONE
BEGIN:VEVENT
DTSTART;TZID=Europe/London:20231219T180000
DTEND;TZID=Europe/London:20231219T200000
DTSTAMP:20260421T090808
CREATED:20231122T124213Z
LAST-MODIFIED:20231122T124213Z
UID:10955-1703008800-1703016000@prospectsfoundation.org.uk
SUMMARY:Wooden reindeer making - Christmas evening craft session
DESCRIPTION:Join us for an evening of crafting at PROSPECTS. \nJoin our Hyndburn Woodlands Officer\, Brandon Cherry\, and create your own wooden reindeer with wood sourced from Hyndburn’s woodlands. Perfect as a gift or a decoration\, these kits are easy to assemble. For a more challenging experience\, there will also be the option to make your own from scratch. \nJoin us on Tuesday 29th Nov @ 6pm – 8pm at PROSPECTS Foundation\, 54 Broadway\, Accrington\, BB5 1EW. And best of all… there will be festive drinks\, snacks and sweet treats provided! (If you have any allergies then please let us know beforehand). \nTo book a place contact Sonja on sonja.bottomer@prospectsfoundation.org.uk or call (01254) 230348. \n \nWooden reindeer making – Christmas evening craft session
URL:https://prospectsfoundation.org.uk/event/wooden-reindeer-making-christmas-evening-craft-session/
LOCATION:Prospects Environment Centre\, 54 Broadway\, Accrington\, BB51EW\, United Kingdom
CATEGORIES:Family,Nature Crafts,Recycling,Traditional Crafts
ATTACH;FMTTYPE=image/jpeg:https://prospectsfoundation.org.uk/wp-content/uploads/2023/11/IMG_20221220_195547-scaled-e1700656906879.jpg
ORGANIZER;CN="Sonja%20Bottomer":MAILTO:sonja.bottomer@prospectsfoundation.org.uk
END:VEVENT
END:VCALENDAR