BEGIN:VCALENDAR
VERSION:2.0
PRODID:-//Prospects - ECPv5.14.1//NONSGML v1.0//EN
CALSCALE:GREGORIAN
METHOD:PUBLISH
X-WR-CALNAME:Prospects
X-ORIGINAL-URL:https://prospectsfoundation.org.uk
X-WR-CALDESC:Events for Prospects
BEGIN:VTIMEZONE
TZID:Europe/London
BEGIN:DAYLIGHT
TZOFFSETFROM:+0000
TZOFFSETTO:+0100
TZNAME:BST
DTSTART:20210328T010000
END:DAYLIGHT
BEGIN:STANDARD
TZOFFSETFROM:+0100
TZOFFSETTO:+0000
TZNAME:GMT
DTSTART:20211031T010000
END:STANDARD
END:VTIMEZONE
BEGIN:VEVENT
DTSTART;TZID=Europe/London:20211122T100000
DTEND;TZID=Europe/London:20211122T120000
DTSTAMP:20260422T174653
CREATED:20210922T100335Z
LAST-MODIFIED:20210922T100335Z
UID:5696-1637575200-1637582400@prospectsfoundation.org.uk
SUMMARY:Women in Wellies
DESCRIPTION:Ladies unite! Join us for  Women in Wellies! \nOur monthly women-only group will be meeting monthly to improve the Lancashire Women’s Centre community garden. \nTo book a place\, email danielle.rowlands@prospectsfoundation.org.uk \n \nWomen in Wellies
URL:https://prospectsfoundation.org.uk/event/women-in-wellies-3/
LOCATION:Lancashire Women\, 21-23 Blackburn Road\, Accrington\, BB5 1HF
CATEGORIES:Outdoor Learning
ATTACH;FMTTYPE=image/jpeg:https://prospectsfoundation.org.uk/wp-content/uploads/2021/09/Women-in-Wellies-2.jpg
ORGANIZER;CN="Danielle%20Rowlands%2C%20Outdoor%20Learning%20Officer":MAILTO:danielle.rowlands@prospectsfoundation.org.uk
END:VEVENT
END:VCALENDAR