BEGIN:VCALENDAR
VERSION:2.0
PRODID:-//Prospects - ECPv5.14.1//NONSGML v1.0//EN
CALSCALE:GREGORIAN
METHOD:PUBLISH
X-WR-CALNAME:Prospects
X-ORIGINAL-URL:https://prospectsfoundation.org.uk
X-WR-CALDESC:Events for Prospects
BEGIN:VTIMEZONE
TZID:Europe/London
BEGIN:DAYLIGHT
TZOFFSETFROM:+0000
TZOFFSETTO:+0100
TZNAME:BST
DTSTART:20210328T010000
END:DAYLIGHT
BEGIN:STANDARD
TZOFFSETFROM:+0100
TZOFFSETTO:+0000
TZNAME:GMT
DTSTART:20211031T010000
END:STANDARD
END:VTIMEZONE
BEGIN:VEVENT
DTSTART;TZID=Europe/London:20211208T100000
DTEND;TZID=Europe/London:20211208T140000
DTSTAMP:20260422T093944
CREATED:20211011T131936Z
LAST-MODIFIED:20211129T114816Z
UID:6060-1638957600-1638972000@prospectsfoundation.org.uk
SUMMARY:Winter Whittling - GrOwING WILD community allotment
DESCRIPTION:BOOKING ESSENTIAL \nJoin Gareth for a spot of Winter Whittling! Children aged 8 and over are welcome accompanied on a 1:1 basis with a responsible adult. \nContact Gareth – gareth.muir@prospectsfoundation.org.uk to find out more and book your place! \nWinter Whittling – GrOwING WILD community allotment
URL:https://prospectsfoundation.org.uk/event/winter-whittling-growing-wild-community-allotment/
LOCATION:GrOwING WILD Community Allotment\, Hill Street\, Baxenden\, BB5 2RB\, United Kingdom
CATEGORIES:Traditional Crafts
ORGANIZER;CN="Gareth%20Muir%20-%20Woodlands%20Officer":MAILTO:gareth.muir@prospectsfoundation.org.uk
END:VEVENT
END:VCALENDAR