BEGIN:VCALENDAR
VERSION:2.0
PRODID:-//Prospects - ECPv5.14.1//NONSGML v1.0//EN
CALSCALE:GREGORIAN
METHOD:PUBLISH
X-WR-CALNAME:Prospects
X-ORIGINAL-URL:https://prospectsfoundation.org.uk
X-WR-CALDESC:Events for Prospects
BEGIN:VTIMEZONE
TZID:Europe/London
BEGIN:DAYLIGHT
TZOFFSETFROM:+0000
TZOFFSETTO:+0100
TZNAME:BST
DTSTART:20210328T010000
END:DAYLIGHT
BEGIN:STANDARD
TZOFFSETFROM:+0100
TZOFFSETTO:+0000
TZNAME:GMT
DTSTART:20211031T010000
END:STANDARD
END:VTIMEZONE
BEGIN:VEVENT
DTSTART;TZID=Europe/London:20211201T133000
DTEND;TZID=Europe/London:20211201T153000
DTSTAMP:20260422T132931
CREATED:20211102T113246Z
LAST-MODIFIED:20211102T113246Z
UID:6223-1638365400-1638372600@prospectsfoundation.org.uk
SUMMARY:Winter Bird Walk
DESCRIPTION:Join us for a walk around Peel Park and the Coppice looking for Winter Migrant Birds.  Bring your binoculars if you have them!  Hopefully\, we will see some long-tailed tits\, jays\, robins and starlings. \nPlaces are limited\, to book email danielle.rowlands@prospectsfoundation.org.uk \nWinter Bird Walk
URL:https://prospectsfoundation.org.uk/event/winter-bird-walk/
LOCATION:Peel Park entrance\, Avenue Parade\, Accrington BB5 6UQ\, BB5 6UQ
CATEGORIES:Outdoor Learning,Walking
ATTACH;FMTTYPE=image/jpeg:https://prospectsfoundation.org.uk/wp-content/uploads/2021/11/winter-blue-tit.jpg
ORGANIZER;CN="Danielle%20Rowlands%2C%20Outdoor%20Learning%20Officer":MAILTO:danielle.rowlands@prospectsfoundation.org.uk
END:VEVENT
END:VCALENDAR