BEGIN:VCALENDAR
VERSION:2.0
PRODID:-//Prospects - ECPv5.14.1//NONSGML v1.0//EN
CALSCALE:GREGORIAN
METHOD:PUBLISH
X-WR-CALNAME:Prospects
X-ORIGINAL-URL:https://prospectsfoundation.org.uk
X-WR-CALDESC:Events for Prospects
BEGIN:VTIMEZONE
TZID:Europe/London
BEGIN:DAYLIGHT
TZOFFSETFROM:+0000
TZOFFSETTO:+0100
TZNAME:BST
DTSTART:20230326T010000
END:DAYLIGHT
BEGIN:STANDARD
TZOFFSETFROM:+0100
TZOFFSETTO:+0000
TZNAME:GMT
DTSTART:20231029T010000
END:STANDARD
END:VTIMEZONE
BEGIN:VEVENT
DTSTART;TZID=Europe/London:20231209T090000
DTEND;TZID=Europe/London:20231209T110000
DTSTAMP:20260419T164340
CREATED:20231201T111122Z
LAST-MODIFIED:20231201T111122Z
UID:11098-1702112400-1702119600@prospectsfoundation.org.uk
SUMMARY:Winter Bird Identification Walk
DESCRIPTION:Join The PROSPECTS Foundation and David Bickerton for a wintery walk through Whinney Hill woodland to identify the bird species which call our frosty woodlands home during the winter time! \nPlease wear sturdy boots\, long sleeves and full length trousers as we may be walking around brambles and nettles. Waterproofs may be needed\, depending on the weather. Please remember to bring warm items of clothing e.g.\, hats\, gloves\, extra thick socks\, spare fleeces/jackets. \nWe will be meeting at the end of Livingstone Road\, BB5 5BS (next to the Livingstone road allotments). Staff will be in orange high-vis. There is on-street parking available. \nBooking is not essential. This is family-friendly event. \n\n\nTo find out more or confirm your attendance\, please contact Brandon at brandon.cherry@prospectsfoundation.org.uk or 07733 840842 \n\nWinter Bird Identification Walk
URL:https://prospectsfoundation.org.uk/event/winter-bird-identification-walk/
LOCATION:Livingstone Road\, end of Livingstone Road\, Accrington\, Lancashire\, BB5 5BS\, United Kingdom
CATEGORIES:Family,Health and wellbeing,Outdoor Learning,Walking,Woodlands
ATTACH;FMTTYPE=image/jpeg:https://prospectsfoundation.org.uk/wp-content/uploads/2023/12/Winter-Bird-Identification-Walk-Facebook-Post-Square-2.jpg
ORGANIZER;CN="Brandon%20Cherry":MAILTO:brandon.cherry@prospectsfoundation.org.uk
END:VEVENT
END:VCALENDAR