BEGIN:VCALENDAR
VERSION:2.0
PRODID:-//Prospects - ECPv5.14.1//NONSGML v1.0//EN
CALSCALE:GREGORIAN
METHOD:PUBLISH
X-WR-CALNAME:Prospects
X-ORIGINAL-URL:https://prospectsfoundation.org.uk
X-WR-CALDESC:Events for Prospects
BEGIN:VTIMEZONE
TZID:Europe/London
BEGIN:DAYLIGHT
TZOFFSETFROM:+0000
TZOFFSETTO:+0100
TZNAME:BST
DTSTART:20200329T010000
END:DAYLIGHT
BEGIN:STANDARD
TZOFFSETFROM:+0100
TZOFFSETTO:+0000
TZNAME:GMT
DTSTART:20201025T010000
END:STANDARD
END:VTIMEZONE
BEGIN:VEVENT
DTSTART;TZID=Europe/London:20200228T120000
DTEND;TZID=Europe/London:20200228T120000
DTSTAMP:20260423T142220
CREATED:20200211T133404Z
LAST-MODIFIED:20200211T133404Z
UID:2764-1582891200-1582891200@prospectsfoundation.org.uk
SUMMARY:WINDFALL FUND CLOSING DATE
DESCRIPTION:The closing date for applications to Round 29 of the Fund is 12 noon on Friday 28th February 2020. \nApplications submitted for this round will be assessed in mid March \nRemember\, applications for a Mini grant can be made at any time. \nWINDFALL FUND CLOSING DATE
URL:https://prospectsfoundation.org.uk/event/windfall-fund-closing-date-2/
END:VEVENT
END:VCALENDAR