BEGIN:VCALENDAR
VERSION:2.0
PRODID:-//Prospects - ECPv5.14.1//NONSGML v1.0//EN
CALSCALE:GREGORIAN
METHOD:PUBLISH
X-WR-CALNAME:Prospects
X-ORIGINAL-URL:https://prospectsfoundation.org.uk
X-WR-CALDESC:Events for Prospects
BEGIN:VTIMEZONE
TZID:Europe/London
BEGIN:DAYLIGHT
TZOFFSETFROM:+0000
TZOFFSETTO:+0100
TZNAME:BST
DTSTART:20230326T010000
END:DAYLIGHT
BEGIN:STANDARD
TZOFFSETFROM:+0100
TZOFFSETTO:+0000
TZNAME:GMT
DTSTART:20231029T010000
END:STANDARD
END:VTIMEZONE
BEGIN:VEVENT
DTSTART;TZID=Europe/London:20230225T093000
DTEND;TZID=Europe/London:20230225T163000
DTSTAMP:20260426T045311
CREATED:20230131T155032Z
LAST-MODIFIED:20230131T155032Z
UID:9029-1677317400-1677342600@prospectsfoundation.org.uk
SUMMARY:Willow Weaving - Foraging Basket
DESCRIPTION:Join us for a FREE willow weaving workshop with the talented Joe\, from Creative With Nature. Using traditional techniques\, we will be weaving our very own small foraging baskets! These can be used as part of our Spring foraging walk later this year\, or simply keep it for your own use at home. \nThe session will be held from 9:30am – 4:30pm at the Woodnook Centre\, Royds St\, Accrington BB5 2JH. \nSpaces are limited. Please contact Chloe to book your place: chloe.jameson@prospectsfoundation.org.uk\, telephone 01254 230 348 or call into the Prospects office at 54 Broadway\, Accrington\, BB5 1EW. \nWillow Weaving – Foraging Basket
URL:https://prospectsfoundation.org.uk/event/willow-weaving-foraging-basket/
LOCATION:Woodnook Centre\, Royds St\, Accrington BB5 2JH\, Accrington\, Lancashire\, BB5 2JH\, United Kingdom
CATEGORIES:Conservation,Nature Crafts,Traditional Crafts
ATTACH;FMTTYPE=image/png:https://prospectsfoundation.org.uk/wp-content/uploads/2023/01/Events-calendar-background-e1675179712210.png
ORGANIZER;CN="Chloe%20Jameson":MAILTO:chloe.jameson@prospectsfoundation.org.uk
END:VEVENT
END:VCALENDAR