BEGIN:VCALENDAR
VERSION:2.0
PRODID:-//Prospects - ECPv5.14.1//NONSGML v1.0//EN
CALSCALE:GREGORIAN
METHOD:PUBLISH
X-WR-CALNAME:Prospects
X-ORIGINAL-URL:https://prospectsfoundation.org.uk
X-WR-CALDESC:Events for Prospects
BEGIN:VTIMEZONE
TZID:Europe/London
BEGIN:DAYLIGHT
TZOFFSETFROM:+0000
TZOFFSETTO:+0100
TZNAME:BST
DTSTART:20210328T010000
END:DAYLIGHT
BEGIN:STANDARD
TZOFFSETFROM:+0100
TZOFFSETTO:+0000
TZNAME:GMT
DTSTART:20211031T010000
END:STANDARD
END:VTIMEZONE
BEGIN:VEVENT
DTSTART;TZID=Europe/London:20210922T130000
DTEND;TZID=Europe/London:20210922T150000
DTSTAMP:20260422T171627
CREATED:20210827T093840Z
LAST-MODIFIED:20210827T093840Z
UID:5529-1632315600-1632322800@prospectsfoundation.org.uk
SUMMARY:Wildlife Wellbeing Walk - Whinney Hill
DESCRIPTION:Join Danielle and Gareth for a Wildlife wellbeing walk in Whinney Hill woods! \nSupport PROSPECT’s work by collecting seeds from the woods which will be grown for tree planting! \nContact Danielle – danielle.rowlands@prospectsfoundation.org.uk or Gareth – gareth.muir@prospectsfoundation.org.uk to book your place! \nWildlife Wellbeing Walk – Whinney Hill
URL:https://prospectsfoundation.org.uk/event/wildlife-wellbeing-walk-whinney-hill/
LOCATION:Whinney Hill Woodland – Livingstone Road/East Crescent BB5 5BX\, Livingstone Road\, Accrington\, BB5 5BX
CATEGORIES:Conservation,Outdoor Learning,Volunteering,Walking,Woodlands
END:VEVENT
END:VCALENDAR