BEGIN:VCALENDAR
VERSION:2.0
PRODID:-//Prospects - ECPv5.14.1//NONSGML v1.0//EN
CALSCALE:GREGORIAN
METHOD:PUBLISH
X-WR-CALNAME:Prospects
X-ORIGINAL-URL:https://prospectsfoundation.org.uk
X-WR-CALDESC:Events for Prospects
BEGIN:VTIMEZONE
TZID:Europe/London
BEGIN:DAYLIGHT
TZOFFSETFROM:+0000
TZOFFSETTO:+0100
TZNAME:BST
DTSTART:20210328T010000
END:DAYLIGHT
BEGIN:STANDARD
TZOFFSETFROM:+0100
TZOFFSETTO:+0000
TZNAME:GMT
DTSTART:20211031T010000
END:STANDARD
END:VTIMEZONE
BEGIN:VEVENT
DTSTART;TZID=Europe/London:20211103T130000
DTEND;TZID=Europe/London:20211103T150000
DTSTAMP:20260422T233355
CREATED:20210924T121909Z
LAST-MODIFIED:20211018T094727Z
UID:5727-1635944400-1635951600@prospectsfoundation.org.uk
SUMMARY:Wild Walk - Martholme Greenway
DESCRIPTION:Join Gareth for a wild walk at Martholme Greenway. \nIdentify trees by their twigs and bark as winter approaches! \nNO dogs please. \nContact Gareth – gareth.muir@prospectsfoundation.org.uk to book your place or for more information! \nWild Walk – Martholme Greenway
URL:https://prospectsfoundation.org.uk/event/wild-walk-martholme-greenway/
LOCATION:Martholme Greenway\, Martholme Greenway Martholme Lane\, Great Harwood\, Blackburn\, BB6 7UQ
CATEGORIES:Conservation,Volunteering,Walking,Woodlands
ORGANIZER;CN="Gareth%20Muir%20-%20Woodlands%20Officer":MAILTO:gareth.muir@prospectsfoundation.org.uk
END:VEVENT
END:VCALENDAR