BEGIN:VCALENDAR
VERSION:2.0
PRODID:-//Prospects - ECPv5.14.1//NONSGML v1.0//EN
CALSCALE:GREGORIAN
METHOD:PUBLISH
X-WR-CALNAME:Prospects
X-ORIGINAL-URL:https://prospectsfoundation.org.uk
X-WR-CALDESC:Events for Prospects
BEGIN:VTIMEZONE
TZID:Europe/London
BEGIN:DAYLIGHT
TZOFFSETFROM:+0000
TZOFFSETTO:+0100
TZNAME:BST
DTSTART:20250330T010000
END:DAYLIGHT
BEGIN:STANDARD
TZOFFSETFROM:+0100
TZOFFSETTO:+0000
TZNAME:GMT
DTSTART:20251026T010000
END:STANDARD
END:VTIMEZONE
BEGIN:VEVENT
DTSTART;TZID=Europe/London:20251114T100000
DTEND;TZID=Europe/London:20251114T120000
DTSTAMP:20260422T164408
CREATED:20251029T111626Z
LAST-MODIFIED:20251029T111720Z
UID:15511-1763114400-1763121600@prospectsfoundation.org.uk
SUMMARY:Whinney Hill - Winter Tree ID
DESCRIPTION:Join The PROSPECTS Foundation for a morning of Winter tree identification! We’ll be taking a stroll through Whinney Hill woodland\, learning how to identify trees during the Winter months. \nWe will be meeting at the car park at the end of Livingstone Road\, BB5 5BS (Just next to the Livingstone Road allotments on Google Maps) \n\nSession runs from 10:00am – 12:00pm \n\nTo find out more or book your place\, please contact Brandon at brandon.cherry@prospectsfoundation.org.uk or call on 07733 840842 \n\nWhinney Hill – Winter Tree ID
URL:https://prospectsfoundation.org.uk/event/whinney-hill-winter-tree-id/
LOCATION:Whinney Hill Woodland – Livingstone Road/East Crescent BB5 5BX\, Livingstone Road\, Accrington\, BB5 5BX
CATEGORIES:Family,Health and wellbeing,Outdoor Learning,Walking,Woodlands
ATTACH;FMTTYPE=image/png:https://prospectsfoundation.org.uk/wp-content/uploads/2025/10/WINTER-TREE-MAILCHIMP.png
ORGANIZER;CN="Brandon%20Cherry":MAILTO:brandon.cherry@prospectsfoundation.org.uk
END:VEVENT
END:VCALENDAR