BEGIN:VCALENDAR
VERSION:2.0
PRODID:-//Prospects - ECPv5.14.1//NONSGML v1.0//EN
CALSCALE:GREGORIAN
METHOD:PUBLISH
X-WR-CALNAME:Prospects
X-ORIGINAL-URL:https://prospectsfoundation.org.uk
X-WR-CALDESC:Events for Prospects
BEGIN:VTIMEZONE
TZID:Europe/London
BEGIN:DAYLIGHT
TZOFFSETFROM:+0000
TZOFFSETTO:+0100
TZNAME:BST
DTSTART:20250330T010000
END:DAYLIGHT
BEGIN:STANDARD
TZOFFSETFROM:+0100
TZOFFSETTO:+0000
TZNAME:GMT
DTSTART:20251026T010000
END:STANDARD
END:VTIMEZONE
BEGIN:VEVENT
DTSTART;TZID=Europe/London:20250819T100000
DTEND;TZID=Europe/London:20250819T150000
DTSTAMP:20260419T141605
CREATED:20250731T152943Z
LAST-MODIFIED:20250731T152943Z
UID:15062-1755597600-1755615600@prospectsfoundation.org.uk
SUMMARY:Whinney Hill - Hyndburn's Woodlands
DESCRIPTION:Join Hyndburn’s Woodlands Officer Brandon for weekly practical conservation sessions. \n\n\nThis week we will be back at Whinney Hill woodland carrying out some site maintenance. Tasks include cutting back and potentially scything. \nWe will meeting along Thorneyholme road\, BB5\, 5FW (Just next to the play area). There is on-street parking available. \nTo find out more or confirm your attendance\, please contact Brandon at brandon.cherry@prospectsfoundation.org.uk or 07733 840842 \n\nWhinney Hill – Hyndburn’s Woodlands
URL:https://prospectsfoundation.org.uk/event/whinney-hill-hyndburns-woodlands-65/
LOCATION:Whinney Hill Woodland – Thorneyholme Road Entrance\, 2 David Lloyd Way\, Accrington\, BB5 5FW
CATEGORIES:Conservation,Health and wellbeing,Volunteering,Woodlands
ATTACH;FMTTYPE=image/jpeg:https://prospectsfoundation.org.uk/wp-content/uploads/2025/07/IMG_20240903_110510.jpg
ORGANIZER;CN="Brandon%20Cherry":MAILTO:brandon.cherry@prospectsfoundation.org.uk
END:VEVENT
END:VCALENDAR